BEGIN:VCALENDAR
VERSION:2.0
PRODID:-//Silverberg-Gymnasium Bedburg - ECPv6.15.20//NONSGML v1.0//EN
CALSCALE:GREGORIAN
METHOD:PUBLISH
X-ORIGINAL-URL:https://www.silverberg-gymnasium.de
X-WR-CALDESC:Veranstaltungen für Silverberg-Gymnasium Bedburg
REFRESH-INTERVAL;VALUE=DURATION:PT1H
X-Robots-Tag:noindex
X-PUBLISHED-TTL:PT1H
BEGIN:VTIMEZONE
TZID:Europe/Berlin
BEGIN:DAYLIGHT
TZOFFSETFROM:+0100
TZOFFSETTO:+0200
TZNAME:CEST
DTSTART:20230326T010000
END:DAYLIGHT
BEGIN:STANDARD
TZOFFSETFROM:+0200
TZOFFSETTO:+0100
TZNAME:CET
DTSTART:20231029T010000
END:STANDARD
BEGIN:DAYLIGHT
TZOFFSETFROM:+0100
TZOFFSETTO:+0200
TZNAME:CEST
DTSTART:20240331T010000
END:DAYLIGHT
BEGIN:STANDARD
TZOFFSETFROM:+0200
TZOFFSETTO:+0100
TZNAME:CET
DTSTART:20241027T010000
END:STANDARD
BEGIN:DAYLIGHT
TZOFFSETFROM:+0100
TZOFFSETTO:+0200
TZNAME:CEST
DTSTART:20250330T010000
END:DAYLIGHT
BEGIN:STANDARD
TZOFFSETFROM:+0200
TZOFFSETTO:+0100
TZNAME:CET
DTSTART:20251026T010000
END:STANDARD
END:VTIMEZONE
BEGIN:VEVENT
DTSTART;VALUE=DATE:20241028
DTEND;VALUE=DATE:20241109
DTSTAMP:20260422T204847
CREATED:20241028T234328Z
LAST-MODIFIED:20241108T234922Z
UID:934063-1730073600-1731110399@www.silverberg-gymnasium.de
SUMMARY:Ausstellung "Die DDR in der Erinnerungskultur" bis 08.11.2024
DESCRIPTION:
URL:https://www.silverberg-gymnasium.de/event/ausstellung-die-ddr-in-der-erinnerungskultur-bis-08-11-2024/
LOCATION:PZ\, Eichendorffstraße 1\, Bedburg\, 50181\, Deutschland
END:VEVENT
BEGIN:VEVENT
DTSTART;TZID=Europe/Berlin:20241029T140000
DTEND;TZID=Europe/Berlin:20241029T160000
DTSTAMP:20260422T204847
CREATED:20241029T145848Z
LAST-MODIFIED:20241029T145848Z
UID:935821-1730210400-1730217600@www.silverberg-gymnasium.de
SUMMARY:Lehrerinnen- und Lehrersprechtag für Klassenleitungen der GS und Klassenleitungen 5
DESCRIPTION:
URL:https://www.silverberg-gymnasium.de/event/lehrerinnen-und-lehrersprechtag-fuer-klassenleitungen-der-gs-und-klassenleitungen-5/
LOCATION:SLZ
END:VEVENT
BEGIN:VEVENT
DTSTART;TZID=Europe/Berlin:20241029T151500
DTEND;TZID=Europe/Berlin:20241029T171500
DTSTAMP:20260422T204847
CREATED:20241029T155827Z
LAST-MODIFIED:20241029T155827Z
UID:936002-1730214900-1730222100@www.silverberg-gymnasium.de
SUMMARY:FS-Konferenz Latein\, ASP Fr. Scholz
DESCRIPTION:
URL:https://www.silverberg-gymnasium.de/event/fs-konferenz-latein-asp-fr-scholz/
LOCATION:A10
END:VEVENT
BEGIN:VEVENT
DTSTART;TZID=Europe/Berlin:20241029T183000
DTEND;TZID=Europe/Berlin:20241029T210000
DTSTAMP:20260422T204847
CREATED:20241029T195851Z
LAST-MODIFIED:20241029T195851Z
UID:936685-1730226600-1730235600@www.silverberg-gymnasium.de
SUMMARY:Einladung zum Informationsabend für Eltern der Jg 9 und EF zur Einführung der iPads in der Aula
DESCRIPTION:
URL:https://www.silverberg-gymnasium.de/event/einladung-zum-informationsabend-fuer-eltern-der-jg-9-und-ef-zur-einfuehrung-der-ipads-in-der-aula/
END:VEVENT
END:VCALENDAR