BEGIN:VCALENDAR
VERSION:2.0
PRODID:-//Silverberg-Gymnasium Bedburg - ECPv6.15.20//NONSGML v1.0//EN
CALSCALE:GREGORIAN
METHOD:PUBLISH
X-ORIGINAL-URL:https://www.silverberg-gymnasium.de
X-WR-CALDESC:Veranstaltungen für Silverberg-Gymnasium Bedburg
REFRESH-INTERVAL;VALUE=DURATION:PT1H
X-Robots-Tag:noindex
X-PUBLISHED-TTL:PT1H
BEGIN:VTIMEZONE
TZID:Europe/Berlin
BEGIN:DAYLIGHT
TZOFFSETFROM:+0100
TZOFFSETTO:+0200
TZNAME:CEST
DTSTART:20230326T010000
END:DAYLIGHT
BEGIN:STANDARD
TZOFFSETFROM:+0200
TZOFFSETTO:+0100
TZNAME:CET
DTSTART:20231029T010000
END:STANDARD
BEGIN:DAYLIGHT
TZOFFSETFROM:+0100
TZOFFSETTO:+0200
TZNAME:CEST
DTSTART:20240331T010000
END:DAYLIGHT
BEGIN:STANDARD
TZOFFSETFROM:+0200
TZOFFSETTO:+0100
TZNAME:CET
DTSTART:20241027T010000
END:STANDARD
BEGIN:DAYLIGHT
TZOFFSETFROM:+0100
TZOFFSETTO:+0200
TZNAME:CEST
DTSTART:20250330T010000
END:DAYLIGHT
BEGIN:STANDARD
TZOFFSETFROM:+0200
TZOFFSETTO:+0100
TZNAME:CET
DTSTART:20251026T010000
END:STANDARD
END:VTIMEZONE
BEGIN:VEVENT
DTSTART;VALUE=DATE:20241126
DTEND;VALUE=DATE:20241127
DTSTAMP:20260422T192140
CREATED:20241126T233359Z
LAST-MODIFIED:20241126T233359Z
UID:971628-1732579200-1732665599@www.silverberg-gymnasium.de
SUMMARY:Fahrradkontrolle der 6. - 10. Klassen - neuer Termin !
DESCRIPTION:
URL:https://www.silverberg-gymnasium.de/event/fahrradkontrolle-der-6-10-klassen-neuer-termin/
END:VEVENT
BEGIN:VEVENT
DTSTART;TZID=Europe/Berlin:20241126T141500
DTEND;TZID=Europe/Berlin:20241126T161500
DTSTAMP:20260422T192140
CREATED:20241126T144857Z
LAST-MODIFIED:20241126T144904Z
UID:970694-1732630500-1732637700@www.silverberg-gymnasium.de
SUMMARY:3. Lehrerkonferenz im SJ 2024-25
DESCRIPTION:
URL:https://www.silverberg-gymnasium.de/event/3-lehrerkonferenz-im-sj-2024-25/
LOCATION:LZ
END:VEVENT
BEGIN:VEVENT
DTSTART;TZID=Europe/Berlin:20241126T183000
DTEND;TZID=Europe/Berlin:20241126T200000
DTSTAMP:20260422T192140
CREATED:20241126T184858Z
LAST-MODIFIED:20241126T184858Z
UID:971098-1732645800-1732651200@www.silverberg-gymnasium.de
SUMMARY:Infoabend Auslandsaufenthalte verschoben - NT 03.12.2024
DESCRIPTION:
URL:https://www.silverberg-gymnasium.de/event/infoabend-auslandsaufenthalte-verschoben-nt-03-12-2024/
LOCATION:Raum A21
END:VEVENT
END:VCALENDAR