BEGIN:VCALENDAR
VERSION:2.0
PRODID:-//Silverberg-Gymnasium Bedburg - ECPv6.15.20//NONSGML v1.0//EN
CALSCALE:GREGORIAN
METHOD:PUBLISH
X-WR-CALNAME:Silverberg-Gymnasium Bedburg
X-ORIGINAL-URL:https://www.silverberg-gymnasium.de
X-WR-CALDESC:Veranstaltungen für Silverberg-Gymnasium Bedburg
REFRESH-INTERVAL;VALUE=DURATION:PT1H
X-Robots-Tag:noindex
X-PUBLISHED-TTL:PT1H
BEGIN:VTIMEZONE
TZID:Europe/Berlin
BEGIN:DAYLIGHT
TZOFFSETFROM:+0100
TZOFFSETTO:+0200
TZNAME:CEST
DTSTART:20230326T010000
END:DAYLIGHT
BEGIN:STANDARD
TZOFFSETFROM:+0200
TZOFFSETTO:+0100
TZNAME:CET
DTSTART:20231029T010000
END:STANDARD
BEGIN:DAYLIGHT
TZOFFSETFROM:+0100
TZOFFSETTO:+0200
TZNAME:CEST
DTSTART:20240331T010000
END:DAYLIGHT
BEGIN:STANDARD
TZOFFSETFROM:+0200
TZOFFSETTO:+0100
TZNAME:CET
DTSTART:20241027T010000
END:STANDARD
BEGIN:DAYLIGHT
TZOFFSETFROM:+0100
TZOFFSETTO:+0200
TZNAME:CEST
DTSTART:20250330T010000
END:DAYLIGHT
BEGIN:STANDARD
TZOFFSETFROM:+0200
TZOFFSETTO:+0100
TZNAME:CET
DTSTART:20251026T010000
END:STANDARD
END:VTIMEZONE
BEGIN:VEVENT
DTSTART;TZID=Europe/Berlin:20241203T134500
DTEND;TZID=Europe/Berlin:20241203T154500
DTSTAMP:20260422T191712
CREATED:20241203T143355Z
LAST-MODIFIED:20241203T143402Z
UID:985076-1733233500-1733240700@www.silverberg-gymnasium.de
SUMMARY:Beobachtungskonferenz der Jgst.10
DESCRIPTION:
URL:https://www.silverberg-gymnasium.de/event/beobachtungskonferenz-der-jgst-10/
END:VEVENT
BEGIN:VEVENT
DTSTART;TZID=Europe/Berlin:20241203T183000
DTEND;TZID=Europe/Berlin:20241203T200000
DTSTAMP:20260422T191712
CREATED:20241203T184858Z
LAST-MODIFIED:20241203T184858Z
UID:985582-1733250600-1733256000@www.silverberg-gymnasium.de
SUMMARY:Infoabend Auslandsaufenthalte für Eltern und Schülerinnen und Schüler der Klassen 9
DESCRIPTION:
URL:https://www.silverberg-gymnasium.de/event/infoabend-auslandsaufenthalte-fuer-eltern-und-schuelerinnen-und-schueler-der-klassen-9/
LOCATION:Raum A21
END:VEVENT
END:VCALENDAR