BEGIN:VCALENDAR
VERSION:2.0
PRODID:-//Silverberg-Gymnasium Bedburg - ECPv6.15.20//NONSGML v1.0//EN
CALSCALE:GREGORIAN
METHOD:PUBLISH
X-WR-CALNAME:Silverberg-Gymnasium Bedburg
X-ORIGINAL-URL:https://www.silverberg-gymnasium.de
X-WR-CALDESC:Veranstaltungen für Silverberg-Gymnasium Bedburg
REFRESH-INTERVAL;VALUE=DURATION:PT1H
X-Robots-Tag:noindex
X-PUBLISHED-TTL:PT1H
BEGIN:VTIMEZONE
TZID:Europe/Berlin
BEGIN:DAYLIGHT
TZOFFSETFROM:+0100
TZOFFSETTO:+0200
TZNAME:CEST
DTSTART:20230326T010000
END:DAYLIGHT
BEGIN:STANDARD
TZOFFSETFROM:+0200
TZOFFSETTO:+0100
TZNAME:CET
DTSTART:20231029T010000
END:STANDARD
BEGIN:DAYLIGHT
TZOFFSETFROM:+0100
TZOFFSETTO:+0200
TZNAME:CEST
DTSTART:20240331T010000
END:DAYLIGHT
BEGIN:STANDARD
TZOFFSETFROM:+0200
TZOFFSETTO:+0100
TZNAME:CET
DTSTART:20241027T010000
END:STANDARD
BEGIN:DAYLIGHT
TZOFFSETFROM:+0100
TZOFFSETTO:+0200
TZNAME:CEST
DTSTART:20250330T010000
END:DAYLIGHT
BEGIN:STANDARD
TZOFFSETFROM:+0200
TZOFFSETTO:+0100
TZNAME:CET
DTSTART:20251026T010000
END:STANDARD
END:VTIMEZONE
BEGIN:VEVENT
DTSTART;VALUE=DATE:20241209
DTEND;VALUE=DATE:20241214
DTSTAMP:20260422T191624
CREATED:20241209T224855Z
LAST-MODIFIED:20241213T233354Z
UID:997641-1733702400-1734134399@www.silverberg-gymnasium.de
SUMMARY:Potentialanlayse Jgst.9\, bis 13.12.2024
DESCRIPTION:
URL:https://www.silverberg-gymnasium.de/event/potentialanlayse-jgst-9-bis-13-12-2024/
END:VEVENT
BEGIN:VEVENT
DTSTART;VALUE=DATE:20241210
DTEND;VALUE=DATE:20241217
DTSTAMP:20260422T191624
CREATED:20241210T234857Z
LAST-MODIFIED:20241216T233359Z
UID:999661-1733788800-1734393599@www.silverberg-gymnasium.de
SUMMARY:Besprechung Potentialnalyse Jgst.9\, bis 16.12.2024
DESCRIPTION:
URL:https://www.silverberg-gymnasium.de/event/besprechung-potentialnalyse-jgst-9-bis-16-12-2024/
END:VEVENT
BEGIN:VEVENT
DTSTART;TZID=Europe/Berlin:20241210T183000
DTEND;TZID=Europe/Berlin:20241210T200000
DTSTAMP:20260422T191624
CREATED:20241210T184855Z
LAST-MODIFIED:20241210T184855Z
UID:999039-1733855400-1733860800@www.silverberg-gymnasium.de
SUMMARY:Treffen 1.Schulentwicklungsgruppe SJ 2024-25
DESCRIPTION:
URL:https://www.silverberg-gymnasium.de/event/treffen-1-schulentwicklungsgruppe-sj-2024-25/
LOCATION:SLZ
END:VEVENT
END:VCALENDAR