BEGIN:VCALENDAR
VERSION:2.0
PRODID:-//Silverberg-Gymnasium Bedburg - ECPv6.15.20//NONSGML v1.0//EN
CALSCALE:GREGORIAN
METHOD:PUBLISH
X-ORIGINAL-URL:https://www.silverberg-gymnasium.de
X-WR-CALDESC:Veranstaltungen für Silverberg-Gymnasium Bedburg
REFRESH-INTERVAL;VALUE=DURATION:PT1H
X-Robots-Tag:noindex
X-PUBLISHED-TTL:PT1H
BEGIN:VTIMEZONE
TZID:Europe/Berlin
BEGIN:DAYLIGHT
TZOFFSETFROM:+0100
TZOFFSETTO:+0200
TZNAME:CEST
DTSTART:20240331T010000
END:DAYLIGHT
BEGIN:STANDARD
TZOFFSETFROM:+0200
TZOFFSETTO:+0100
TZNAME:CET
DTSTART:20241027T010000
END:STANDARD
BEGIN:DAYLIGHT
TZOFFSETFROM:+0100
TZOFFSETTO:+0200
TZNAME:CEST
DTSTART:20250330T010000
END:DAYLIGHT
BEGIN:STANDARD
TZOFFSETFROM:+0200
TZOFFSETTO:+0100
TZNAME:CET
DTSTART:20251026T010000
END:STANDARD
BEGIN:DAYLIGHT
TZOFFSETFROM:+0100
TZOFFSETTO:+0200
TZNAME:CEST
DTSTART:20260329T010000
END:DAYLIGHT
BEGIN:STANDARD
TZOFFSETFROM:+0200
TZOFFSETTO:+0100
TZNAME:CET
DTSTART:20261025T010000
END:STANDARD
END:VTIMEZONE
BEGIN:VEVENT
DTSTART;VALUE=DATE:20250321
DTEND;VALUE=DATE:20250330
DTSTAMP:20260422T142516
CREATED:20250321T235036Z
LAST-MODIFIED:20250329T233514Z
UID:1228893-1742515200-1743292799@www.silverberg-gymnasium.de
SUMMARY:Erasmus+ - Internationales Treffen in Madrid bis 29.03.2025
DESCRIPTION:
URL:https://www.silverberg-gymnasium.de/event/erasmus-internationales-treffen-in-madrid-bis-29-03-2025/
END:VEVENT
BEGIN:VEVENT
DTSTART;TZID=Europe/Berlin:20250326T183000
DTEND;TZID=Europe/Berlin:20250326T200000
DTSTAMP:20260422T142516
CREATED:20250326T175026Z
LAST-MODIFIED:20250326T182023Z
UID:1239862-1743013800-1743019200@www.silverberg-gymnasium.de
SUMMARY:MV Förderverein\, nur Vorstandsitzung
DESCRIPTION:Join with Google Meet: https://meet.google.com/znu-ysjk-ygy\nLearn more about Meet at: https://support.google.com/a/users/answer/9282720
URL:https://www.silverberg-gymnasium.de/event/mv-foerderverein-nur-vorstandsitzung/
LOCATION:SLZ
END:VEVENT
END:VCALENDAR