BEGIN:VCALENDAR
VERSION:2.0
PRODID:-//Silverberg-Gymnasium Bedburg - ECPv6.15.20//NONSGML v1.0//EN
CALSCALE:GREGORIAN
METHOD:PUBLISH
X-ORIGINAL-URL:https://www.silverberg-gymnasium.de
X-WR-CALDESC:Veranstaltungen für Silverberg-Gymnasium Bedburg
REFRESH-INTERVAL;VALUE=DURATION:PT1H
X-Robots-Tag:noindex
X-PUBLISHED-TTL:PT1H
BEGIN:VTIMEZONE
TZID:Europe/Berlin
BEGIN:DAYLIGHT
TZOFFSETFROM:+0100
TZOFFSETTO:+0200
TZNAME:CEST
DTSTART:20240331T010000
END:DAYLIGHT
BEGIN:STANDARD
TZOFFSETFROM:+0200
TZOFFSETTO:+0100
TZNAME:CET
DTSTART:20241027T010000
END:STANDARD
BEGIN:DAYLIGHT
TZOFFSETFROM:+0100
TZOFFSETTO:+0200
TZNAME:CEST
DTSTART:20250330T010000
END:DAYLIGHT
BEGIN:STANDARD
TZOFFSETFROM:+0200
TZOFFSETTO:+0100
TZNAME:CET
DTSTART:20251026T010000
END:STANDARD
BEGIN:DAYLIGHT
TZOFFSETFROM:+0100
TZOFFSETTO:+0200
TZNAME:CEST
DTSTART:20260329T010000
END:DAYLIGHT
BEGIN:STANDARD
TZOFFSETFROM:+0200
TZOFFSETTO:+0100
TZNAME:CET
DTSTART:20261025T010000
END:STANDARD
END:VTIMEZONE
BEGIN:VEVENT
DTSTART;VALUE=DATE:20250321
DTEND;VALUE=DATE:20250330
DTSTAMP:20260422T161047
CREATED:20250321T235036Z
LAST-MODIFIED:20250329T233514Z
UID:1228893-1742515200-1743292799@www.silverberg-gymnasium.de
SUMMARY:Erasmus+ - Internationales Treffen in Madrid bis 29.03.2025
DESCRIPTION:
URL:https://www.silverberg-gymnasium.de/event/erasmus-internationales-treffen-in-madrid-bis-29-03-2025/
END:VEVENT
BEGIN:VEVENT
DTSTART;TZID=Europe/Berlin:20250327T094500
DTEND;TZID=Europe/Berlin:20250327T112000
DTSTAMP:20260422T161047
CREATED:20250327T095024Z
LAST-MODIFIED:20250327T095024Z
UID:1241133-1743068700-1743074400@www.silverberg-gymnasium.de
SUMMARY:Wege nach dem Abitur (verpflichtend für Jgst. Q2)
DESCRIPTION:
URL:https://www.silverberg-gymnasium.de/event/wege-nach-dem-abitur-verpflichtend-fuer-jgst-q2/
END:VEVENT
BEGIN:VEVENT
DTSTART;TZID=Europe/Berlin:20250327T180000
DTEND;TZID=Europe/Berlin:20250327T200000
DTSTAMP:20260422T161047
CREATED:20250327T185016Z
LAST-MODIFIED:20250327T185023Z
UID:1242109-1743098400-1743105600@www.silverberg-gymnasium.de
SUMMARY:Elterninformationsabend zu Wahl WP II (Differenzierung Jgst.8)
DESCRIPTION:
URL:https://www.silverberg-gymnasium.de/event/elterninformationsabend-zu-wahl-wp-ii-differenzierung-jgst-8-2/
LOCATION:Aula\, Eichendorffstraße 1\, Bedburg\, 50181\, Deutschland
END:VEVENT
END:VCALENDAR