BEGIN:VCALENDAR
VERSION:2.0
PRODID:-//Silverberg-Gymnasium Bedburg - ECPv6.15.20//NONSGML v1.0//EN
CALSCALE:GREGORIAN
METHOD:PUBLISH
X-WR-CALNAME:Silverberg-Gymnasium Bedburg
X-ORIGINAL-URL:https://www.silverberg-gymnasium.de
X-WR-CALDESC:Veranstaltungen für Silverberg-Gymnasium Bedburg
REFRESH-INTERVAL;VALUE=DURATION:PT1H
X-Robots-Tag:noindex
X-PUBLISHED-TTL:PT1H
BEGIN:VTIMEZONE
TZID:Europe/Berlin
BEGIN:DAYLIGHT
TZOFFSETFROM:+0100
TZOFFSETTO:+0200
TZNAME:CEST
DTSTART:20240331T010000
END:DAYLIGHT
BEGIN:STANDARD
TZOFFSETFROM:+0200
TZOFFSETTO:+0100
TZNAME:CET
DTSTART:20241027T010000
END:STANDARD
BEGIN:DAYLIGHT
TZOFFSETFROM:+0100
TZOFFSETTO:+0200
TZNAME:CEST
DTSTART:20250330T010000
END:DAYLIGHT
BEGIN:STANDARD
TZOFFSETFROM:+0200
TZOFFSETTO:+0100
TZNAME:CET
DTSTART:20251026T010000
END:STANDARD
BEGIN:DAYLIGHT
TZOFFSETFROM:+0100
TZOFFSETTO:+0200
TZNAME:CEST
DTSTART:20260329T010000
END:DAYLIGHT
BEGIN:STANDARD
TZOFFSETFROM:+0200
TZOFFSETTO:+0100
TZNAME:CET
DTSTART:20261025T010000
END:STANDARD
END:VTIMEZONE
BEGIN:VEVENT
DTSTART;VALUE=DATE:20250603
DTEND;VALUE=DATE:20250604
DTSTAMP:20260422T094033
CREATED:20250603T215907Z
LAST-MODIFIED:20250604T044417Z
UID:1313555-1748908800-1748995199@www.silverberg-gymnasium.de
SUMMARY:ZP10 Englisch
DESCRIPTION:
URL:https://www.silverberg-gymnasium.de/event/zp10-englisch/
END:VEVENT
BEGIN:VEVENT
DTSTART;TZID=Europe/Berlin:20250603T100000
DTEND;TZID=Europe/Berlin:20250603T130000
DTSTAMP:20260422T094033
CREATED:20250603T105829Z
LAST-MODIFIED:20250603T105832Z
UID:1312833-1748944800-1748955600@www.silverberg-gymnasium.de
SUMMARY:Anmeldung Übermitttags- / Hausaufgabenbetreuung für neue SJ 2025-26\, (Büro der Caritas\, Frau Kruse\, im Silverberg-Gymnasium)
DESCRIPTION:
URL:https://www.silverberg-gymnasium.de/event/anmeldung-uebermitttags-hausaufgabenbetreuung-fuer-neue-sj-2025-26-buero-der-caritas-frau-kruse-im-silverberg-gymnasium-2/
LOCATION:Raum A07
END:VEVENT
END:VCALENDAR