BEGIN:VCALENDAR
VERSION:2.0
PRODID:-//Silverberg-Gymnasium Bedburg - ECPv6.15.20//NONSGML v1.0//EN
CALSCALE:GREGORIAN
METHOD:PUBLISH
X-WR-CALNAME:Silverberg-Gymnasium Bedburg
X-ORIGINAL-URL:https://www.silverberg-gymnasium.de
X-WR-CALDESC:Veranstaltungen für Silverberg-Gymnasium Bedburg
REFRESH-INTERVAL;VALUE=DURATION:PT1H
X-Robots-Tag:noindex
X-PUBLISHED-TTL:PT1H
BEGIN:VTIMEZONE
TZID:Europe/Berlin
BEGIN:DAYLIGHT
TZOFFSETFROM:+0100
TZOFFSETTO:+0200
TZNAME:CEST
DTSTART:20240331T010000
END:DAYLIGHT
BEGIN:STANDARD
TZOFFSETFROM:+0200
TZOFFSETTO:+0100
TZNAME:CET
DTSTART:20241027T010000
END:STANDARD
BEGIN:DAYLIGHT
TZOFFSETFROM:+0100
TZOFFSETTO:+0200
TZNAME:CEST
DTSTART:20250330T010000
END:DAYLIGHT
BEGIN:STANDARD
TZOFFSETFROM:+0200
TZOFFSETTO:+0100
TZNAME:CET
DTSTART:20251026T010000
END:STANDARD
BEGIN:DAYLIGHT
TZOFFSETFROM:+0100
TZOFFSETTO:+0200
TZNAME:CEST
DTSTART:20260329T010000
END:DAYLIGHT
BEGIN:STANDARD
TZOFFSETFROM:+0200
TZOFFSETTO:+0100
TZNAME:CET
DTSTART:20261025T010000
END:STANDARD
END:VTIMEZONE
BEGIN:VEVENT
DTSTART;TZID=Europe/Berlin:20250616T100000
DTEND;TZID=Europe/Berlin:20250616T160000
DTSTAMP:20260422T093904
CREATED:20250616T134405Z
LAST-MODIFIED:20250616T134407Z
UID:1326711-1750068000-1750089600@www.silverberg-gymnasium.de
SUMMARY:Anmeldung Übermitttags- / Hausaufgabenbetreuung für neue SJ 2025-26\, (Büro der Caritas\, Frau Kruse\, im Silverberg-Gymnasium)
DESCRIPTION:
URL:https://www.silverberg-gymnasium.de/event/anmeldung-uebermitttags-hausaufgabenbetreuung-fuer-neue-sj-2025-26-buero-der-caritas-frau-kruse-im-silverberg-gymnasium-3/
LOCATION:Raum A07
END:VEVENT
END:VCALENDAR