BEGIN:VCALENDAR
VERSION:2.0
PRODID:-//Silverberg-Gymnasium Bedburg - ECPv6.15.20//NONSGML v1.0//EN
CALSCALE:GREGORIAN
METHOD:PUBLISH
X-ORIGINAL-URL:https://www.silverberg-gymnasium.de
X-WR-CALDESC:Veranstaltungen für Silverberg-Gymnasium Bedburg
REFRESH-INTERVAL;VALUE=DURATION:PT1H
X-Robots-Tag:noindex
X-PUBLISHED-TTL:PT1H
BEGIN:VTIMEZONE
TZID:Europe/Berlin
BEGIN:DAYLIGHT
TZOFFSETFROM:+0100
TZOFFSETTO:+0200
TZNAME:CEST
DTSTART:20240331T010000
END:DAYLIGHT
BEGIN:STANDARD
TZOFFSETFROM:+0200
TZOFFSETTO:+0100
TZNAME:CET
DTSTART:20241027T010000
END:STANDARD
BEGIN:DAYLIGHT
TZOFFSETFROM:+0100
TZOFFSETTO:+0200
TZNAME:CEST
DTSTART:20250330T010000
END:DAYLIGHT
BEGIN:STANDARD
TZOFFSETFROM:+0200
TZOFFSETTO:+0100
TZNAME:CET
DTSTART:20251026T010000
END:STANDARD
BEGIN:DAYLIGHT
TZOFFSETFROM:+0100
TZOFFSETTO:+0200
TZNAME:CEST
DTSTART:20260329T010000
END:DAYLIGHT
BEGIN:STANDARD
TZOFFSETFROM:+0200
TZOFFSETTO:+0100
TZNAME:CET
DTSTART:20261025T010000
END:STANDARD
END:VTIMEZONE
BEGIN:VEVENT
DTSTART;VALUE=DATE:20250630
DTEND;VALUE=DATE:20250711
DTSTAMP:20260422T092031
CREATED:20250616T165925Z
LAST-MODIFIED:20250616T165927Z
UID:1326873-1751241600-1752191999@www.silverberg-gymnasium.de
SUMMARY:Berufsfelderkundungspraktikum Jgst. EF vom 30.06. - 10.07.2025
DESCRIPTION:
URL:https://www.silverberg-gymnasium.de/event/berufsfelderkundungspraktikum-jgst-ef-vom-30-06-10-07-2025/
END:VEVENT
END:VCALENDAR