BEGIN:VCALENDAR
VERSION:2.0
PRODID:-//Silverberg-Gymnasium Bedburg - ECPv6.15.20//NONSGML v1.0//EN
CALSCALE:GREGORIAN
METHOD:PUBLISH
X-ORIGINAL-URL:https://www.silverberg-gymnasium.de
X-WR-CALDESC:Veranstaltungen für Silverberg-Gymnasium Bedburg
REFRESH-INTERVAL;VALUE=DURATION:PT1H
X-Robots-Tag:noindex
X-PUBLISHED-TTL:PT1H
BEGIN:VTIMEZONE
TZID:Europe/Berlin
BEGIN:DAYLIGHT
TZOFFSETFROM:+0100
TZOFFSETTO:+0200
TZNAME:CEST
DTSTART:20240331T010000
END:DAYLIGHT
BEGIN:STANDARD
TZOFFSETFROM:+0200
TZOFFSETTO:+0100
TZNAME:CET
DTSTART:20241027T010000
END:STANDARD
BEGIN:DAYLIGHT
TZOFFSETFROM:+0100
TZOFFSETTO:+0200
TZNAME:CEST
DTSTART:20250330T010000
END:DAYLIGHT
BEGIN:STANDARD
TZOFFSETFROM:+0200
TZOFFSETTO:+0100
TZNAME:CET
DTSTART:20251026T010000
END:STANDARD
BEGIN:DAYLIGHT
TZOFFSETFROM:+0100
TZOFFSETTO:+0200
TZNAME:CEST
DTSTART:20260329T010000
END:DAYLIGHT
BEGIN:STANDARD
TZOFFSETFROM:+0200
TZOFFSETTO:+0100
TZNAME:CET
DTSTART:20261025T010000
END:STANDARD
END:VTIMEZONE
BEGIN:VEVENT
DTSTART;VALUE=DATE:20250901
DTEND;VALUE=DATE:20250911
DTSTAMP:20260422T042218
CREATED:20250908T074829Z
LAST-MODIFIED:20250911T042110Z
UID:1327181-1756684800-1757548799@www.silverberg-gymnasium.de
SUMMARY:Wahlen in den Klassen/Kursen/Jahrgangsstufen
DESCRIPTION:
URL:https://www.silverberg-gymnasium.de/event/wahlen-in-den-klassen-kursen-jahrgangsstufen-bis-zum-10-09-2025/
END:VEVENT
BEGIN:VEVENT
DTSTART;VALUE=DATE:20250903
DTEND;VALUE=DATE:20250911
DTSTAMP:20260422T042218
CREATED:20250908T074829Z
LAST-MODIFIED:20250911T042110Z
UID:1327179-1756857600-1757548799@www.silverberg-gymnasium.de
SUMMARY:Polnisch-deutscher Schülertausch
DESCRIPTION:
URL:https://www.silverberg-gymnasium.de/event/polnisch-deutscher-schuelertausch-vom-03-09-12-09-2025/
END:VEVENT
BEGIN:VEVENT
DTSTART;TZID=Europe/Berlin:20250910T190000
DTEND;TZID=Europe/Berlin:20250910T210000
DTSTAMP:20260422T042218
CREATED:20250910T175039Z
LAST-MODIFIED:20250910T182033Z
UID:1334009-1757530800-1757538000@www.silverberg-gymnasium.de
SUMMARY:Klassenpflegschafts-/Jahrgangsstufensitzungen der 7.Klassen (Klassenraum)
DESCRIPTION:
URL:https://www.silverberg-gymnasium.de/event/klassenpflegschafts-jahrgangsstufensitzungen-der-7-klassen-klassenraum-2/
LOCATION:Klassenräume
END:VEVENT
BEGIN:VEVENT
DTSTART;TZID=Europe/Berlin:20250910T190000
DTEND;TZID=Europe/Berlin:20250910T210000
DTSTAMP:20260422T042218
CREATED:20250910T175040Z
LAST-MODIFIED:20250910T182033Z
UID:1334010-1757530800-1757538000@www.silverberg-gymnasium.de
SUMMARY:Klassenpflegschafts-/Jahrgangsstufensitzungen der EF (Aula )
DESCRIPTION:
URL:https://www.silverberg-gymnasium.de/event/klassenpflegschafts-jahrgangsstufensitzungen-der-ef-aula-2/
LOCATION:Aula\, Eichendorffstraße 1\, Bedburg\, 50181\, Deutschland
END:VEVENT
END:VCALENDAR