BEGIN:VCALENDAR
VERSION:2.0
PRODID:-//Silverberg-Gymnasium Bedburg - ECPv6.15.20//NONSGML v1.0//EN
CALSCALE:GREGORIAN
METHOD:PUBLISH
X-ORIGINAL-URL:https://www.silverberg-gymnasium.de
X-WR-CALDESC:Veranstaltungen für Silverberg-Gymnasium Bedburg
REFRESH-INTERVAL;VALUE=DURATION:PT1H
X-Robots-Tag:noindex
X-PUBLISHED-TTL:PT1H
BEGIN:VTIMEZONE
TZID:Europe/Berlin
BEGIN:DAYLIGHT
TZOFFSETFROM:+0100
TZOFFSETTO:+0200
TZNAME:CEST
DTSTART:20240331T010000
END:DAYLIGHT
BEGIN:STANDARD
TZOFFSETFROM:+0200
TZOFFSETTO:+0100
TZNAME:CET
DTSTART:20241027T010000
END:STANDARD
BEGIN:DAYLIGHT
TZOFFSETFROM:+0100
TZOFFSETTO:+0200
TZNAME:CEST
DTSTART:20250330T010000
END:DAYLIGHT
BEGIN:STANDARD
TZOFFSETFROM:+0200
TZOFFSETTO:+0100
TZNAME:CET
DTSTART:20251026T010000
END:STANDARD
BEGIN:DAYLIGHT
TZOFFSETFROM:+0100
TZOFFSETTO:+0200
TZNAME:CEST
DTSTART:20260329T010000
END:DAYLIGHT
BEGIN:STANDARD
TZOFFSETFROM:+0200
TZOFFSETTO:+0100
TZNAME:CET
DTSTART:20261025T010000
END:STANDARD
END:VTIMEZONE
BEGIN:VEVENT
DTSTART;TZID=Europe/Berlin:20250911T183000
DTEND;TZID=Europe/Berlin:20250911T210000
DTSTAMP:20260422T042328
CREATED:20250911T183604Z
LAST-MODIFIED:20250911T183613Z
UID:1336632-1757615400-1757624400@www.silverberg-gymnasium.de
SUMMARY:Klassenpflegschafts-/Jahrgangsstufensitzungen der 10. Klassen ( ab 19.00 Uhr im Klassenraum)
DESCRIPTION:
URL:https://www.silverberg-gymnasium.de/event/klassenpflegschafts-jahrgangsstufensitzungen-der-10-klassen-ab-19-00-uhr-im-klassenraum-2/
LOCATION:Aula\, Eichendorffstraße 1\, Bedburg\, 50181\, Deutschland
END:VEVENT
BEGIN:VEVENT
DTSTART;TZID=Europe/Berlin:20250911T190000
DTEND;TZID=Europe/Berlin:20250911T210000
DTSTAMP:20260422T042328
CREATED:20250911T183604Z
LAST-MODIFIED:20250911T183613Z
UID:1336631-1757617200-1757624400@www.silverberg-gymnasium.de
SUMMARY:Klassenpflegschafts-/Jahrgangsstufensitzungen der 6. Klassen (Klassenraum)
DESCRIPTION:
URL:https://www.silverberg-gymnasium.de/event/klassenpflegschafts-jahrgangsstufensitzungen-der-6-klassen-klassenraum-2/
LOCATION:Klassenräume
END:VEVENT
END:VCALENDAR