BEGIN:VCALENDAR
VERSION:2.0
PRODID:-//Silverberg-Gymnasium Bedburg - ECPv6.15.20//NONSGML v1.0//EN
CALSCALE:GREGORIAN
METHOD:PUBLISH
X-WR-CALNAME:Silverberg-Gymnasium Bedburg
X-ORIGINAL-URL:https://www.silverberg-gymnasium.de
X-WR-CALDESC:Veranstaltungen für Silverberg-Gymnasium Bedburg
REFRESH-INTERVAL;VALUE=DURATION:PT1H
X-Robots-Tag:noindex
X-PUBLISHED-TTL:PT1H
BEGIN:VTIMEZONE
TZID:Europe/Berlin
BEGIN:DAYLIGHT
TZOFFSETFROM:+0100
TZOFFSETTO:+0200
TZNAME:CEST
DTSTART:20240331T010000
END:DAYLIGHT
BEGIN:STANDARD
TZOFFSETFROM:+0200
TZOFFSETTO:+0100
TZNAME:CET
DTSTART:20241027T010000
END:STANDARD
BEGIN:DAYLIGHT
TZOFFSETFROM:+0100
TZOFFSETTO:+0200
TZNAME:CEST
DTSTART:20250330T010000
END:DAYLIGHT
BEGIN:STANDARD
TZOFFSETFROM:+0200
TZOFFSETTO:+0100
TZNAME:CET
DTSTART:20251026T010000
END:STANDARD
BEGIN:DAYLIGHT
TZOFFSETFROM:+0100
TZOFFSETTO:+0200
TZNAME:CEST
DTSTART:20260329T010000
END:DAYLIGHT
BEGIN:STANDARD
TZOFFSETFROM:+0200
TZOFFSETTO:+0100
TZNAME:CET
DTSTART:20261025T010000
END:STANDARD
END:VTIMEZONE
BEGIN:VEVENT
DTSTART;VALUE=DATE:20250918
DTEND;VALUE=DATE:20250919
DTSTAMP:20260422T041650
CREATED:20250918T224058Z
LAST-MODIFIED:20250918T224107Z
UID:1355872-1758153600-1758239999@www.silverberg-gymnasium.de
SUMMARY:Fahrradkontrolle Klasse 6 bis 10
DESCRIPTION:
URL:https://www.silverberg-gymnasium.de/event/fahrradkontrolle-klasse-6-bis-10/
END:VEVENT
BEGIN:VEVENT
DTSTART;TZID=Europe/Berlin:20250918T074500
DTEND;TZID=Europe/Berlin:20250918T131500
DTSTAMP:20260422T041650
CREATED:20250918T104050Z
LAST-MODIFIED:20250918T104057Z
UID:1354240-1758181500-1758201300@www.silverberg-gymnasium.de
SUMMARY:Hausinterne "Berufe Messe" für die Jahrgangsstufe Q1
DESCRIPTION:
URL:https://www.silverberg-gymnasium.de/event/hausinterne-berufe-messe-fuer-die-jahrgangsstufe-q1/
LOCATION:Aula / PZ / SLZ/  A21 / B08
END:VEVENT
END:VCALENDAR