BEGIN:VCALENDAR
VERSION:2.0
PRODID:-//Silverberg-Gymnasium Bedburg - ECPv6.15.20//NONSGML v1.0//EN
CALSCALE:GREGORIAN
METHOD:PUBLISH
X-ORIGINAL-URL:https://www.silverberg-gymnasium.de
X-WR-CALDESC:Veranstaltungen für Silverberg-Gymnasium Bedburg
REFRESH-INTERVAL;VALUE=DURATION:PT1H
X-Robots-Tag:noindex
X-PUBLISHED-TTL:PT1H
BEGIN:VTIMEZONE
TZID:Europe/Berlin
BEGIN:DAYLIGHT
TZOFFSETFROM:+0100
TZOFFSETTO:+0200
TZNAME:CEST
DTSTART:20240331T010000
END:DAYLIGHT
BEGIN:STANDARD
TZOFFSETFROM:+0200
TZOFFSETTO:+0100
TZNAME:CET
DTSTART:20241027T010000
END:STANDARD
BEGIN:DAYLIGHT
TZOFFSETFROM:+0100
TZOFFSETTO:+0200
TZNAME:CEST
DTSTART:20250330T010000
END:DAYLIGHT
BEGIN:STANDARD
TZOFFSETFROM:+0200
TZOFFSETTO:+0100
TZNAME:CET
DTSTART:20251026T010000
END:STANDARD
BEGIN:DAYLIGHT
TZOFFSETFROM:+0100
TZOFFSETTO:+0200
TZNAME:CEST
DTSTART:20260329T010000
END:DAYLIGHT
BEGIN:STANDARD
TZOFFSETFROM:+0200
TZOFFSETTO:+0100
TZNAME:CET
DTSTART:20261025T010000
END:STANDARD
END:VTIMEZONE
BEGIN:VEVENT
DTSTART;VALUE=DATE:20251027
DTEND;VALUE=DATE:20251108
DTSTAMP:20260422T002841
CREATED:20251027T225952Z
LAST-MODIFIED:20251107T234709Z
UID:1445903-1761523200-1762559999@www.silverberg-gymnasium.de
SUMMARY:Ausstellung Bundesstiftung Aufarbeitung der SED-Diktatur "Frauen im geteilten Deutschland"
DESCRIPTION:
URL:https://www.silverberg-gymnasium.de/event/ausstellung-bundesstiftung-aufarbeitung-der-sed-diktatur-frauen-im-geteilten-deutschland/
LOCATION:PZ\, Eichendorffstraße 1\, Bedburg\, 50181\, Deutschland
END:VEVENT
BEGIN:VEVENT
DTSTART;VALUE=DATE:20251104
DTEND;VALUE=DATE:20251112
DTSTAMP:20260422T002841
CREATED:20251104T234447Z
LAST-MODIFIED:20251111T234707Z
UID:1463294-1762214400-1762905599@www.silverberg-gymnasium.de
SUMMARY:Französisch-deutscher Schüleraustausch (unsere Schüler/innen in Saint-Ètienne\, betrifft die Kl.9a\,9c\,9d\,9e )
DESCRIPTION:
URL:https://www.silverberg-gymnasium.de/event/franzoesisch-deutscher-schueleraustausch-unsere-schueler-innen-in-saint-etienne-betrifft-die-kl-9a9c9d9e/
END:VEVENT
BEGIN:VEVENT
DTSTART;VALUE=DATE:20251105
DTEND;VALUE=DATE:20251108
DTSTAMP:20260422T002841
CREATED:20251105T235949Z
LAST-MODIFIED:20251107T234710Z
UID:1465535-1762300800-1762559999@www.silverberg-gymnasium.de
SUMMARY:Freusburgfahrt der Klassen 5
DESCRIPTION:
URL:https://www.silverberg-gymnasium.de/event/freusburgfahrt-der-klassen-5-2/
END:VEVENT
END:VCALENDAR