BEGIN:VCALENDAR
VERSION:2.0
PRODID:-//Silverberg-Gymnasium Bedburg - ECPv6.15.20//NONSGML v1.0//EN
CALSCALE:GREGORIAN
METHOD:PUBLISH
X-ORIGINAL-URL:https://www.silverberg-gymnasium.de
X-WR-CALDESC:Veranstaltungen für Silverberg-Gymnasium Bedburg
REFRESH-INTERVAL;VALUE=DURATION:PT1H
X-Robots-Tag:noindex
X-PUBLISHED-TTL:PT1H
BEGIN:VTIMEZONE
TZID:Europe/Berlin
BEGIN:DAYLIGHT
TZOFFSETFROM:+0100
TZOFFSETTO:+0200
TZNAME:CEST
DTSTART:20250330T010000
END:DAYLIGHT
BEGIN:STANDARD
TZOFFSETFROM:+0200
TZOFFSETTO:+0100
TZNAME:CET
DTSTART:20251026T010000
END:STANDARD
BEGIN:DAYLIGHT
TZOFFSETFROM:+0100
TZOFFSETTO:+0200
TZNAME:CEST
DTSTART:20260329T010000
END:DAYLIGHT
BEGIN:STANDARD
TZOFFSETFROM:+0200
TZOFFSETTO:+0100
TZNAME:CET
DTSTART:20261025T010000
END:STANDARD
BEGIN:DAYLIGHT
TZOFFSETFROM:+0100
TZOFFSETTO:+0200
TZNAME:CEST
DTSTART:20270328T010000
END:DAYLIGHT
BEGIN:STANDARD
TZOFFSETFROM:+0200
TZOFFSETTO:+0100
TZNAME:CET
DTSTART:20271031T010000
END:STANDARD
END:VTIMEZONE
BEGIN:VEVENT
DTSTART;TZID=Europe/Berlin:20260112T160000
DTEND;TZID=Europe/Berlin:20260112T190000
DTSTAMP:20260421T205953
CREATED:20260112T175301Z
LAST-MODIFIED:20260112T175301Z
UID:1565795-1768233600-1768244400@www.silverberg-gymnasium.de
SUMMARY:Anmeldung Übermitttags- / Hausaufgabenbetreuung für das 2.HJ
DESCRIPTION:
URL:https://www.silverberg-gymnasium.de/event/anmeldung-uebermitttags-hausaufgabenbetreuung-fuer-das-2-hj-2/
LOCATION:Büro Caritas im Container\, 1.Etage\, Eingang von der Goethestraße\, Realschule Bedburg
END:VEVENT
BEGIN:VEVENT
DTSTART;TZID=Europe/Berlin:20260112T190000
DTEND;TZID=Europe/Berlin:20260112T201500
DTSTAMP:20260421T205953
CREATED:20260112T185306Z
LAST-MODIFIED:20260112T185306Z
UID:1565907-1768244400-1768248900@www.silverberg-gymnasium.de
SUMMARY:ACHTGUNG: verschoben! 2. Schulkonferenz im SJ 2025-26   \, neuer Termin 22.01.2026 !
DESCRIPTION:
URL:https://www.silverberg-gymnasium.de/event/achtgung-verschoben-2-schulkonferenz-im-sj-2025-26-neuer-termin-22-01-2026/
LOCATION:SLZ
END:VEVENT
END:VCALENDAR