BEGIN:VCALENDAR
VERSION:2.0
PRODID:-//Silverberg-Gymnasium Bedburg - ECPv6.15.20//NONSGML v1.0//EN
CALSCALE:GREGORIAN
METHOD:PUBLISH
X-WR-CALNAME:Silverberg-Gymnasium Bedburg
X-ORIGINAL-URL:https://www.silverberg-gymnasium.de
X-WR-CALDESC:Veranstaltungen für Silverberg-Gymnasium Bedburg
REFRESH-INTERVAL;VALUE=DURATION:PT1H
X-Robots-Tag:noindex
X-PUBLISHED-TTL:PT1H
BEGIN:VTIMEZONE
TZID:Europe/Berlin
BEGIN:DAYLIGHT
TZOFFSETFROM:+0100
TZOFFSETTO:+0200
TZNAME:CEST
DTSTART:20250330T010000
END:DAYLIGHT
BEGIN:STANDARD
TZOFFSETFROM:+0200
TZOFFSETTO:+0100
TZNAME:CET
DTSTART:20251026T010000
END:STANDARD
BEGIN:DAYLIGHT
TZOFFSETFROM:+0100
TZOFFSETTO:+0200
TZNAME:CEST
DTSTART:20260329T010000
END:DAYLIGHT
BEGIN:STANDARD
TZOFFSETFROM:+0200
TZOFFSETTO:+0100
TZNAME:CET
DTSTART:20261025T010000
END:STANDARD
BEGIN:DAYLIGHT
TZOFFSETFROM:+0100
TZOFFSETTO:+0200
TZNAME:CEST
DTSTART:20270328T010000
END:DAYLIGHT
BEGIN:STANDARD
TZOFFSETFROM:+0200
TZOFFSETTO:+0100
TZNAME:CET
DTSTART:20271031T010000
END:STANDARD
END:VTIMEZONE
BEGIN:VEVENT
DTSTART;TZID=Europe/Berlin:20260212T090000
DTEND;TZID=Europe/Berlin:20260212T122500
DTSTAMP:20260421T192126
CREATED:20260208T154604Z
LAST-MODIFIED:20260208T154604Z
UID:1624197-1770886800-1770899100@www.silverberg-gymnasium.de
SUMMARY:Karnevalssitzung für die Jgst. 5 + 6  bis 12.00 Uhr;   Achtung: Keine Übermittagsbetreuung!    - unterrichtsfrei nach der 5.Stunde
DESCRIPTION:
URL:https://www.silverberg-gymnasium.de/event/karnevalssitzung-fuer-die-jgst-5-6-bis-12-00-uhr-achtung-keine-uebermittagsbetreuung-unterrichtsfrei-nach-der-5-stunde-2/
LOCATION:Aula\, Eichendorffstraße 1\, Bedburg\, 50181\, Deutschland
END:VEVENT
END:VCALENDAR