BEGIN:VCALENDAR
VERSION:2.0
PRODID:-//Silverberg-Gymnasium Bedburg - ECPv6.15.20//NONSGML v1.0//EN
CALSCALE:GREGORIAN
METHOD:PUBLISH
X-ORIGINAL-URL:https://www.silverberg-gymnasium.de
X-WR-CALDESC:Veranstaltungen für Silverberg-Gymnasium Bedburg
REFRESH-INTERVAL;VALUE=DURATION:PT1H
X-Robots-Tag:noindex
X-PUBLISHED-TTL:PT1H
BEGIN:VTIMEZONE
TZID:Europe/Berlin
BEGIN:DAYLIGHT
TZOFFSETFROM:+0100
TZOFFSETTO:+0200
TZNAME:CEST
DTSTART:20250330T010000
END:DAYLIGHT
BEGIN:STANDARD
TZOFFSETFROM:+0200
TZOFFSETTO:+0100
TZNAME:CET
DTSTART:20251026T010000
END:STANDARD
BEGIN:DAYLIGHT
TZOFFSETFROM:+0100
TZOFFSETTO:+0200
TZNAME:CEST
DTSTART:20260329T010000
END:DAYLIGHT
BEGIN:STANDARD
TZOFFSETFROM:+0200
TZOFFSETTO:+0100
TZNAME:CET
DTSTART:20261025T010000
END:STANDARD
BEGIN:DAYLIGHT
TZOFFSETFROM:+0100
TZOFFSETTO:+0200
TZNAME:CEST
DTSTART:20270328T010000
END:DAYLIGHT
BEGIN:STANDARD
TZOFFSETFROM:+0200
TZOFFSETTO:+0100
TZNAME:CET
DTSTART:20271031T010000
END:STANDARD
END:VTIMEZONE
BEGIN:VEVENT
DTSTART;TZID=Europe/Berlin:20260616T141500
DTEND;TZID=Europe/Berlin:20260616T163000
DTSTAMP:20260421T185952
CREATED:20260318T233134Z
LAST-MODIFIED:20260318T233145Z
UID:1632356-1781619300-1781627400@www.silverberg-gymnasium.de
SUMMARY:5.Lehrerkonferenz im SJ 2025-26
DESCRIPTION:
URL:https://www.silverberg-gymnasium.de/event/5-lehrerkonferenz-im-sj-2025-26/
END:VEVENT
BEGIN:VEVENT
DTSTART;TZID=Europe/Berlin:20260616T160000
DTEND;TZID=Europe/Berlin:20260616T180000
DTSTAMP:20260421T185952
CREATED:20260318T233134Z
LAST-MODIFIED:20260318T233145Z
UID:1632357-1781625600-1781632800@www.silverberg-gymnasium.de
SUMMARY:Anmeldung Übermitttags- / Hausaufgabenbetreuung für das 1.HJ im SJ 2026-27
DESCRIPTION:
URL:https://www.silverberg-gymnasium.de/event/anmeldung-uebermitttags-hausaufgabenbetreuung-fuer-das-1-hj-im-sj-2026-27-3/
LOCATION:Büro Caritas im Container\, 1.OG\, Goehtestraße \, zwischen Realschule\, Bushaltestelle und Parkplatz Hauptschule
END:VEVENT
BEGIN:VEVENT
DTSTART;TZID=Europe/Berlin:20260616T193000
DTEND;TZID=Europe/Berlin:20260616T210000
DTSTAMP:20260421T185952
CREATED:20260318T233134Z
LAST-MODIFIED:20260318T233145Z
UID:1632358-1781638200-1781643600@www.silverberg-gymnasium.de
SUMMARY:4.Schulpflegschaftssitzung im SJ 2025-26 (nach Bedarf)
DESCRIPTION:
URL:https://www.silverberg-gymnasium.de/event/4-schulpflegschaftssitzung-im-sj-2025-26-nach-bedarf/
LOCATION:Aula\, Eichendorffstraße 1\, Bedburg\, 50181\, Deutschland
END:VEVENT
END:VCALENDAR