BEGIN:VCALENDAR
VERSION:2.0
PRODID:-//Silverberg-Gymnasium Bedburg - ECPv6.15.20//NONSGML v1.0//EN
CALSCALE:GREGORIAN
METHOD:PUBLISH
X-WR-CALNAME:Silverberg-Gymnasium Bedburg
X-ORIGINAL-URL:https://www.silverberg-gymnasium.de
X-WR-CALDESC:Veranstaltungen für Silverberg-Gymnasium Bedburg
REFRESH-INTERVAL;VALUE=DURATION:PT1H
X-Robots-Tag:noindex
X-PUBLISHED-TTL:PT1H
BEGIN:VTIMEZONE
TZID:Europe/Berlin
BEGIN:DAYLIGHT
TZOFFSETFROM:+0100
TZOFFSETTO:+0200
TZNAME:CEST
DTSTART:20250330T010000
END:DAYLIGHT
BEGIN:STANDARD
TZOFFSETFROM:+0200
TZOFFSETTO:+0100
TZNAME:CET
DTSTART:20251026T010000
END:STANDARD
BEGIN:DAYLIGHT
TZOFFSETFROM:+0100
TZOFFSETTO:+0200
TZNAME:CEST
DTSTART:20260329T010000
END:DAYLIGHT
BEGIN:STANDARD
TZOFFSETFROM:+0200
TZOFFSETTO:+0100
TZNAME:CET
DTSTART:20261025T010000
END:STANDARD
BEGIN:DAYLIGHT
TZOFFSETFROM:+0100
TZOFFSETTO:+0200
TZNAME:CEST
DTSTART:20270328T010000
END:DAYLIGHT
BEGIN:STANDARD
TZOFFSETFROM:+0200
TZOFFSETTO:+0100
TZNAME:CET
DTSTART:20271031T010000
END:STANDARD
END:VTIMEZONE
BEGIN:VEVENT
DTSTART;VALUE=DATE:20260706
DTEND;VALUE=DATE:20260717
DTSTAMP:20260421T202433
CREATED:20260318T233135Z
LAST-MODIFIED:20260318T233146Z
UID:1632367-1783296000-1784246399@www.silverberg-gymnasium.de
SUMMARY:Berufsorientierungspraktikum Jgst. EF
DESCRIPTION:
URL:https://www.silverberg-gymnasium.de/event/berufsorientierungspraktikum-jgst-ef/
END:VEVENT
BEGIN:VEVENT
DTSTART;VALUE=DATE:20260707
DTEND;VALUE=DATE:20260715
DTSTAMP:20260421T202433
CREATED:20260318T233135Z
LAST-MODIFIED:20260318T233146Z
UID:1632366-1783382400-1784073599@www.silverberg-gymnasium.de
SUMMARY:Alpen-Überquerung- Projektkurs Q1
DESCRIPTION:
URL:https://www.silverberg-gymnasium.de/event/alpen-ueberquerung-projektkurs-q1/
END:VEVENT
BEGIN:VEVENT
DTSTART;VALUE=DATE:20260713
DTEND;VALUE=DATE:20260714
DTSTAMP:20260421T202433
CREATED:20260318T233136Z
LAST-MODIFIED:20260318T233147Z
UID:1632372-1783900800-1783987199@www.silverberg-gymnasium.de
SUMMARY:Sportfest Jahrgangsstufe  9 + 10  - SV-Sportfest - Stadion
DESCRIPTION:
URL:https://www.silverberg-gymnasium.de/event/sportfest-jahrgangsstufe-9-10-sv-sportfest-stadion-2/
LOCATION:Sportplatz Balduin-Arena
END:VEVENT
END:VCALENDAR