BEGIN:VCALENDAR
VERSION:2.0
PRODID:-//Silverberg-Gymnasium Bedburg - ECPv6.15.20//NONSGML v1.0//EN
CALSCALE:GREGORIAN
METHOD:PUBLISH
X-ORIGINAL-URL:https://www.silverberg-gymnasium.de
X-WR-CALDESC:Veranstaltungen für Silverberg-Gymnasium Bedburg
REFRESH-INTERVAL;VALUE=DURATION:PT1H
X-Robots-Tag:noindex
X-PUBLISHED-TTL:PT1H
BEGIN:VTIMEZONE
TZID:Europe/Berlin
BEGIN:DAYLIGHT
TZOFFSETFROM:+0100
TZOFFSETTO:+0200
TZNAME:CEST
DTSTART:20250330T010000
END:DAYLIGHT
BEGIN:STANDARD
TZOFFSETFROM:+0200
TZOFFSETTO:+0100
TZNAME:CET
DTSTART:20251026T010000
END:STANDARD
BEGIN:DAYLIGHT
TZOFFSETFROM:+0100
TZOFFSETTO:+0200
TZNAME:CEST
DTSTART:20260329T010000
END:DAYLIGHT
BEGIN:STANDARD
TZOFFSETFROM:+0200
TZOFFSETTO:+0100
TZNAME:CET
DTSTART:20261025T010000
END:STANDARD
BEGIN:DAYLIGHT
TZOFFSETFROM:+0100
TZOFFSETTO:+0200
TZNAME:CEST
DTSTART:20270328T010000
END:DAYLIGHT
BEGIN:STANDARD
TZOFFSETFROM:+0200
TZOFFSETTO:+0100
TZNAME:CET
DTSTART:20271031T010000
END:STANDARD
END:VTIMEZONE
BEGIN:VEVENT
DTSTART;VALUE=DATE:20260417
DTEND;VALUE=DATE:20260427
DTSTAMP:20260421T153126
CREATED:20260318T233131Z
LAST-MODIFIED:20260318T233141Z
UID:1632325-1776384000-1777247999@www.silverberg-gymnasium.de
SUMMARY:Erasmus+ - 2. Internationales Treffen in Bedburg
DESCRIPTION:
URL:https://www.silverberg-gymnasium.de/event/erasmus-2-internationales-treffen-in-bedburg/
END:VEVENT
BEGIN:VEVENT
DTSTART;TZID=Europe/Berlin:20260421T190000
DTEND;TZID=Europe/Berlin:20260421T203000
DTSTAMP:20260421T153126
CREATED:20260318T233130Z
LAST-MODIFIED:20260318T233140Z
UID:1632322-1776798000-1776803400@www.silverberg-gymnasium.de
SUMMARY:Elterninformationsabend zur Wahl der 2. Fremdsprache\, Klassen 6
DESCRIPTION:
URL:https://www.silverberg-gymnasium.de/event/elterninformationsabend-zur-wahl-der-2-fremdsprache-klassen-6-3/
LOCATION:Aula\, Eichendorffstraße 1\, Bedburg\, 50181\, Deutschland
END:VEVENT
BEGIN:VEVENT
DTSTART;VALUE=DATE:20260423
DTEND;VALUE=DATE:20260424
DTSTAMP:20260421T153126
CREATED:20260318T233131Z
LAST-MODIFIED:20260318T233140Z
UID:1632323-1776902400-1776988799@www.silverberg-gymnasium.de
SUMMARY:2. Berufsfelderkundung\, Girl's Day / Boy's Day\, Jgst. 9
DESCRIPTION:
URL:https://www.silverberg-gymnasium.de/event/2-berufsfelderkundung-girls-day-boys-day-jgst-9-3/
END:VEVENT
BEGIN:VEVENT
DTSTART;VALUE=DATE:20260424
DTEND;VALUE=DATE:20260425
DTSTAMP:20260421T153126
CREATED:20260318T233131Z
LAST-MODIFIED:20260318T233141Z
UID:1632324-1776988800-1777075199@www.silverberg-gymnasium.de
SUMMARY:Ende des 3. Quartals für die Jgst. EF/Q1 (Leistungsstandsübersicht Klassen 5-10)
DESCRIPTION:
URL:https://www.silverberg-gymnasium.de/event/ende-des-3-quartals-fuer-die-jgst-ef-q1-leistungsstandsuebersicht-klassen-5-10/
LOCATION:Aula\, Eichendorffstraße 1\, Bedburg\, 50181\, Deutschland
END:VEVENT
BEGIN:VEVENT
DTSTART;VALUE=DATE:20260424
DTEND;VALUE=DATE:20260425
DTSTAMP:20260421T153126
CREATED:20260318T233131Z
LAST-MODIFIED:20260318T233141Z
UID:1632326-1776988800-1777075199@www.silverberg-gymnasium.de
SUMMARY:6er Exkursion Xanten
DESCRIPTION:
URL:https://www.silverberg-gymnasium.de/event/6er-exkursion-xanten/
END:VEVENT
BEGIN:VEVENT
DTSTART;VALUE=DATE:20260427
DTEND;VALUE=DATE:20260428
DTSTAMP:20260421T153126
CREATED:20260318T233131Z
LAST-MODIFIED:20260318T233141Z
UID:1632327-1777248000-1777334399@www.silverberg-gymnasium.de
SUMMARY:Noteneintrag Quartalsnoten EF\, Q1; Leistungsübersicht Klassen 5-10 (Gesamtnote)
DESCRIPTION:
URL:https://www.silverberg-gymnasium.de/event/noteneintrag-quartalsnoten-ef-q1-leistungsuebersicht-klassen-5-10-gesamtnote/
END:VEVENT
BEGIN:VEVENT
DTSTART;TZID=Europe/Berlin:20260427T074500
DTEND;TZID=Europe/Berlin:20260427T130000
DTSTAMP:20260421T153126
CREATED:20250909T125202Z
LAST-MODIFIED:20250909T133542Z
UID:1330886-1777275900-1777294800@www.silverberg-gymnasium.de
SUMMARY:Abgabe der Monita Fachlehrer bis 13 Uhr
DESCRIPTION:
URL:https://www.silverberg-gymnasium.de/event/abgabe-der-monita-fachlehrer-bis-13-uhr/
END:VEVENT
BEGIN:VEVENT
DTSTART;TZID=Europe/Berlin:20260427T074500
DTEND;TZID=Europe/Berlin:20260427T130000
DTSTAMP:20260421T153126
CREATED:20260318T233131Z
LAST-MODIFIED:20260318T233141Z
UID:1632328-1777275900-1777294800@www.silverberg-gymnasium.de
SUMMARY:Abgabe der Monita Fachlehrer
DESCRIPTION:
URL:https://www.silverberg-gymnasium.de/event/abgabe-der-monita-fachlehrer/
END:VEVENT
BEGIN:VEVENT
DTSTART;VALUE=DATE:20260430
DTEND;VALUE=DATE:20260501
DTSTAMP:20260421T153126
CREATED:20260318T233131Z
LAST-MODIFIED:20260318T233141Z
UID:1632330-1777507200-1777593599@www.silverberg-gymnasium.de
SUMMARY:Monita-Versand (durch Sekretariat)
DESCRIPTION:
URL:https://www.silverberg-gymnasium.de/event/monita-versand-durch-sekretariat-3/
END:VEVENT
BEGIN:VEVENT
DTSTART;VALUE=DATE:20260501
DTEND;VALUE=DATE:20260502
DTSTAMP:20260421T153126
CREATED:20260318T233131Z
LAST-MODIFIED:20260318T233141Z
UID:1632329-1777593600-1777679999@www.silverberg-gymnasium.de
SUMMARY:Tag der Arbeit - unterrichtsfrei -
DESCRIPTION:
URL:https://www.silverberg-gymnasium.de/event/tag-der-arbeit-unterrichtsfrei-2/
END:VEVENT
BEGIN:VEVENT
DTSTART;TZID=Europe/Berlin:20260505T141500
DTEND;TZID=Europe/Berlin:20260505T154500
DTSTAMP:20260421T153126
CREATED:20260318T233131Z
LAST-MODIFIED:20260318T233141Z
UID:1632331-1777990500-1777995900@www.silverberg-gymnasium.de
SUMMARY:3. Erprobungsstufenkonferenz Jgst. 6
DESCRIPTION:
URL:https://www.silverberg-gymnasium.de/event/3-erprobungsstufenkonferenz-jgst-6-3/
END:VEVENT
BEGIN:VEVENT
DTSTART;TZID=Europe/Berlin:20260505T183000
DTEND;TZID=Europe/Berlin:20260505T200000
DTSTAMP:20260421T153126
CREATED:20260318T233132Z
LAST-MODIFIED:20260318T233142Z
UID:1632332-1778005800-1778011200@www.silverberg-gymnasium.de
SUMMARY:4.Sitzung der Schulentwicklungsgruppe SJ 2025-26
DESCRIPTION:
URL:https://www.silverberg-gymnasium.de/event/4-sitzung-der-schulentwicklungsgruppe-sj-2025-26/
LOCATION:SLZ
END:VEVENT
BEGIN:VEVENT
DTSTART;TZID=Europe/Berlin:20260508T094500
DTEND;TZID=Europe/Berlin:20260508T131500
DTSTAMP:20260421T153126
CREATED:20260318T233132Z
LAST-MODIFIED:20260318T233142Z
UID:1632333-1778233500-1778246100@www.silverberg-gymnasium.de
SUMMARY:Europatag 2026
DESCRIPTION:betroffene Stufen: EF und Q1 ; Tag/Uhrzeit unter Vorbehalt _Articus
URL:https://www.silverberg-gymnasium.de/event/europatag-2026/
LOCATION:Aula / ggf. E-Trakt oben
END:VEVENT
BEGIN:VEVENT
DTSTART;TZID=Europe/Berlin:20260508T113000
DTEND;TZID=Europe/Berlin:20260508T133000
DTSTAMP:20260421T153126
CREATED:20260318T233132Z
LAST-MODIFIED:20260318T233142Z
UID:1632334-1778239800-1778247000@www.silverberg-gymnasium.de
SUMMARY:2. Elternsprechtag  im SJ 2025-26 für Hauptfächer
DESCRIPTION:
URL:https://www.silverberg-gymnasium.de/event/2-elternsprechtag-im-sj-2025-26-fuer-hauptfaecher/
END:VEVENT
BEGIN:VEVENT
DTSTART;TZID=Europe/Berlin:20260508T143000
DTEND;TZID=Europe/Berlin:20260508T183000
DTSTAMP:20260421T153126
CREATED:20260318T233132Z
LAST-MODIFIED:20260318T233142Z
UID:1632335-1778250600-1778265000@www.silverberg-gymnasium.de
SUMMARY:2. Elternsprechtag  im SJ 2025-26 für alle
DESCRIPTION:
URL:https://www.silverberg-gymnasium.de/event/2-elternsprechtag-im-sj-2025-26-fuer-alle/
END:VEVENT
BEGIN:VEVENT
DTSTART;VALUE=DATE:20260513
DTEND;VALUE=DATE:20260514
DTSTAMP:20260421T153126
CREATED:20260318T233132Z
LAST-MODIFIED:20260318T233142Z
UID:1632336-1778630400-1778716799@www.silverberg-gymnasium.de
SUMMARY:ZP10 Deutsch
DESCRIPTION:
URL:https://www.silverberg-gymnasium.de/event/zp10-deutsch-2/
END:VEVENT
BEGIN:VEVENT
DTSTART;VALUE=DATE:20260514
DTEND;VALUE=DATE:20260515
DTSTAMP:20260421T153126
CREATED:20260318T233132Z
LAST-MODIFIED:20260318T233142Z
UID:1632338-1778716800-1778803199@www.silverberg-gymnasium.de
SUMMARY:Christi Himmelfahrt
DESCRIPTION:
URL:https://www.silverberg-gymnasium.de/event/christi-himmelfahrt-2/
END:VEVENT
BEGIN:VEVENT
DTSTART;VALUE=DATE:20260515
DTEND;VALUE=DATE:20260516
DTSTAMP:20260421T153126
CREATED:20260318T233132Z
LAST-MODIFIED:20260318T233142Z
UID:1632337-1778803200-1778889599@www.silverberg-gymnasium.de
SUMMARY:Ausgleichstag - für Teilnehmende am Ausdauertag unterrichtsfrei
DESCRIPTION:
URL:https://www.silverberg-gymnasium.de/event/ausgleichstag-fuer-teilnehmende-am-ausdauertag-unterrichtsfrei/
END:VEVENT
BEGIN:VEVENT
DTSTART;VALUE=DATE:20260519
DTEND;VALUE=DATE:20260520
DTSTAMP:20260421T153126
CREATED:20260318T233132Z
LAST-MODIFIED:20260318T233142Z
UID:1632339-1779148800-1779235199@www.silverberg-gymnasium.de
SUMMARY:ZP10 Englisch
DESCRIPTION:
URL:https://www.silverberg-gymnasium.de/event/zp10-englisch-2/
LOCATION:Klassenräume der 10er
END:VEVENT
BEGIN:VEVENT
DTSTART;TZID=Europe/Berlin:20260519T140000
DTEND;TZID=Europe/Berlin:20260519T170000
DTSTAMP:20260421T153126
CREATED:20260318T233132Z
LAST-MODIFIED:20260318T233142Z
UID:1632340-1779199200-1779210000@www.silverberg-gymnasium.de
SUMMARY:AK Schulabsentismus
DESCRIPTION:
URL:https://www.silverberg-gymnasium.de/event/ak-schulabsentismus/
END:VEVENT
BEGIN:VEVENT
DTSTART;VALUE=DATE:20260525
DTEND;VALUE=DATE:20260526
DTSTAMP:20260421T153126
CREATED:20260318T233133Z
LAST-MODIFIED:20260318T233142Z
UID:1632342-1779667200-1779753599@www.silverberg-gymnasium.de
SUMMARY:Pfingstmontag
DESCRIPTION:
URL:https://www.silverberg-gymnasium.de/event/pfingstmontag-4/
END:VEVENT
BEGIN:VEVENT
DTSTART;VALUE=DATE:20260526
DTEND;VALUE=DATE:20260527
DTSTAMP:20260421T153126
CREATED:20260318T233133Z
LAST-MODIFIED:20260318T233142Z
UID:1632341-1779753600-1779839999@www.silverberg-gymnasium.de
SUMMARY:Pfingstferien
DESCRIPTION:
URL:https://www.silverberg-gymnasium.de/event/pfingstferien-4/
END:VEVENT
BEGIN:VEVENT
DTSTART;VALUE=DATE:20260528
DTEND;VALUE=DATE:20260529
DTSTAMP:20260421T153126
CREATED:20260318T233133Z
LAST-MODIFIED:20260318T233143Z
UID:1632345-1779926400-1780012799@www.silverberg-gymnasium.de
SUMMARY:ZP10 Mathe
DESCRIPTION:
URL:https://www.silverberg-gymnasium.de/event/zp10-mathe-3/
LOCATION:Klassenräume der 10er
END:VEVENT
BEGIN:VEVENT
DTSTART;VALUE=DATE:20260529
DTEND;VALUE=DATE:20260530
DTSTAMP:20260421T153126
CREATED:20260318T233133Z
LAST-MODIFIED:20260318T233143Z
UID:1632343-1780012800-1780099199@www.silverberg-gymnasium.de
SUMMARY:Delf scolaire: mündliche Prüfung
DESCRIPTION:
URL:https://www.silverberg-gymnasium.de/event/delf-scolaire-muendliche-pruefung/
LOCATION:Raum E05
END:VEVENT
BEGIN:VEVENT
DTSTART;VALUE=DATE:20260529
DTEND;VALUE=DATE:20260530
DTSTAMP:20260421T153126
CREATED:20260318T233133Z
LAST-MODIFIED:20260318T233143Z
UID:1632344-1780012800-1780099199@www.silverberg-gymnasium.de
SUMMARY:ZK EF Deutsch
DESCRIPTION:
URL:https://www.silverberg-gymnasium.de/event/zk-ef-deutsch-2/
END:VEVENT
BEGIN:VEVENT
DTSTART;VALUE=DATE:20260530
DTEND;VALUE=DATE:20260531
DTSTAMP:20260421T153126
CREATED:20260318T233133Z
LAST-MODIFIED:20260318T233143Z
UID:1632346-1780099200-1780185599@www.silverberg-gymnasium.de
SUMMARY:Delf scolaire: schriftliche Prüfung
DESCRIPTION:
URL:https://www.silverberg-gymnasium.de/event/delf-scolaire-schriftliche-pruefung-3/
LOCATION:Raum E05
END:VEVENT
BEGIN:VEVENT
DTSTART;TZID=Europe/Berlin:20260602T113000
DTEND;TZID=Europe/Berlin:20260602T150000
DTSTAMP:20260421T153126
CREATED:20260318T233133Z
LAST-MODIFIED:20260318T233143Z
UID:1632347-1780399800-1780412400@www.silverberg-gymnasium.de
SUMMARY:Workshop Jugendamt
DESCRIPTION:
URL:https://www.silverberg-gymnasium.de/event/workshop-jugendamt/
END:VEVENT
BEGIN:VEVENT
DTSTART;VALUE=DATE:20260603
DTEND;VALUE=DATE:20260604
DTSTAMP:20260421T153126
CREATED:20260318T233133Z
LAST-MODIFIED:20260318T233143Z
UID:1632348-1780444800-1780531199@www.silverberg-gymnasium.de
SUMMARY:ZK EF Mathe
DESCRIPTION:
URL:https://www.silverberg-gymnasium.de/event/zk-ef-mathe-2/
END:VEVENT
BEGIN:VEVENT
DTSTART;VALUE=DATE:20260604
DTEND;VALUE=DATE:20260605
DTSTAMP:20260421T153126
CREATED:20260318T233133Z
LAST-MODIFIED:20260318T233144Z
UID:1632350-1780531200-1780617599@www.silverberg-gymnasium.de
SUMMARY:Fronleichnam
DESCRIPTION:
URL:https://www.silverberg-gymnasium.de/event/fronleichnam-2/
END:VEVENT
BEGIN:VEVENT
DTSTART;VALUE=DATE:20260605
DTEND;VALUE=DATE:20260606
DTSTAMP:20260421T153126
CREATED:20260318T233133Z
LAST-MODIFIED:20260318T233144Z
UID:1632349-1780617600-1780703999@www.silverberg-gymnasium.de
SUMMARY:LuL-Fortbildung\, ab 5.Std. LuL-Ausflug - unterrichtsfrei für alle SuS-
DESCRIPTION:
URL:https://www.silverberg-gymnasium.de/event/lul-fortbildung-ab-5-std-lul-ausflug-unterrichtsfrei-fuer-alle-sus/
END:VEVENT
END:VCALENDAR