BEGIN:VCALENDAR
VERSION:2.0
PRODID:-//Silverberg-Gymnasium Bedburg - ECPv6.15.20//NONSGML v1.0//EN
CALSCALE:GREGORIAN
METHOD:PUBLISH
X-ORIGINAL-URL:https://www.silverberg-gymnasium.de
X-WR-CALDESC:Veranstaltungen für Silverberg-Gymnasium Bedburg
REFRESH-INTERVAL;VALUE=DURATION:PT1H
X-Robots-Tag:noindex
X-PUBLISHED-TTL:PT1H
BEGIN:VTIMEZONE
TZID:Europe/Berlin
BEGIN:DAYLIGHT
TZOFFSETFROM:+0100
TZOFFSETTO:+0200
TZNAME:CEST
DTSTART:20250330T010000
END:DAYLIGHT
BEGIN:STANDARD
TZOFFSETFROM:+0200
TZOFFSETTO:+0100
TZNAME:CET
DTSTART:20251026T010000
END:STANDARD
BEGIN:DAYLIGHT
TZOFFSETFROM:+0100
TZOFFSETTO:+0200
TZNAME:CEST
DTSTART:20260329T010000
END:DAYLIGHT
BEGIN:STANDARD
TZOFFSETFROM:+0200
TZOFFSETTO:+0100
TZNAME:CET
DTSTART:20261025T010000
END:STANDARD
BEGIN:DAYLIGHT
TZOFFSETFROM:+0100
TZOFFSETTO:+0200
TZNAME:CEST
DTSTART:20270328T010000
END:DAYLIGHT
BEGIN:STANDARD
TZOFFSETFROM:+0200
TZOFFSETTO:+0100
TZNAME:CET
DTSTART:20271031T010000
END:STANDARD
BEGIN:DAYLIGHT
TZOFFSETFROM:+0100
TZOFFSETTO:+0200
TZNAME:CEST
DTSTART:20280326T010000
END:DAYLIGHT
BEGIN:STANDARD
TZOFFSETFROM:+0200
TZOFFSETTO:+0100
TZNAME:CET
DTSTART:20281029T010000
END:STANDARD
END:VTIMEZONE
BEGIN:VEVENT
DTSTART;VALUE=DATE:20260715
DTEND;VALUE=DATE:20260716
DTSTAMP:20260421T202626
CREATED:20260318T233136Z
LAST-MODIFIED:20260318T233147Z
UID:1632374-1784073600-1784159999@www.silverberg-gymnasium.de
SUMMARY:Sportfest Jahrgangsstufe  5 + 6  - SV-Sportfest - Stadion
DESCRIPTION:
URL:https://www.silverberg-gymnasium.de/event/sportfest-jahrgangsstufe-5-6-sv-sportfest-stadion-4/
LOCATION:Sportplatz Balduin-Arena
END:VEVENT
BEGIN:VEVENT
DTSTART;VALUE=DATE:20260716
DTEND;VALUE=DATE:20260717
DTSTAMP:20260421T202626
CREATED:20260318T233136Z
LAST-MODIFIED:20260318T233147Z
UID:1632376-1784160000-1784246399@www.silverberg-gymnasium.de
SUMMARY:Antidiskriminierungstag
DESCRIPTION:
URL:https://www.silverberg-gymnasium.de/event/antidiskriminierungstag/
END:VEVENT
BEGIN:VEVENT
DTSTART;VALUE=DATE:20260717
DTEND;VALUE=DATE:20260718
DTSTAMP:20260421T202626
CREATED:20260318T233136Z
LAST-MODIFIED:20260318T233147Z
UID:1632375-1784246400-1784332799@www.silverberg-gymnasium.de
SUMMARY:Letzter Schultag SJ 2025-26
DESCRIPTION:
URL:https://www.silverberg-gymnasium.de/event/letzter-schultag-sj-2025-26/
END:VEVENT
BEGIN:VEVENT
DTSTART;TZID=Europe/Berlin:20260717T094500
DTEND;TZID=Europe/Berlin:20260717T103000
DTSTAMP:20260421T202626
CREATED:20260318T233137Z
LAST-MODIFIED:20260318T233147Z
UID:1632377-1784281500-1784284200@www.silverberg-gymnasium.de
SUMMARY:Zeugnisausgabe\, im Anschluss unterrichtsfrei nach der 3.Std.
DESCRIPTION:
URL:https://www.silverberg-gymnasium.de/event/zeugnisausgabe-im-anschluss-unterrichtsfrei-nach-der-3-std-3/
END:VEVENT
BEGIN:VEVENT
DTSTART;VALUE=DATE:20260720
DTEND;VALUE=DATE:20260902
DTSTAMP:20260421T202626
CREATED:20260318T233137Z
LAST-MODIFIED:20260318T233148Z
UID:1632383-1784505600-1788307199@www.silverberg-gymnasium.de
SUMMARY:Sommerferien
DESCRIPTION:
URL:https://www.silverberg-gymnasium.de/event/sommerferien/
END:VEVENT
BEGIN:VEVENT
DTSTART;TZID=Europe/Berlin:20260831T080000
DTEND;TZID=Europe/Berlin:20260831T110000
DTSTAMP:20260421T202626
CREATED:20260318T233137Z
LAST-MODIFIED:20260318T233147Z
UID:1632378-1788163200-1788174000@www.silverberg-gymnasium.de
SUMMARY:schriftliche Nachprüfungen
DESCRIPTION:
URL:https://www.silverberg-gymnasium.de/event/schriftliche-nachpruefungen-2/
END:VEVENT
BEGIN:VEVENT
DTSTART;TZID=Europe/Berlin:20260901T080000
DTEND;TZID=Europe/Berlin:20260901T120000
DTSTAMP:20260421T202626
CREATED:20260318T233137Z
LAST-MODIFIED:20260318T233147Z
UID:1632379-1788249600-1788264000@www.silverberg-gymnasium.de
SUMMARY:1. LK im SJ 2026-27
DESCRIPTION:
URL:https://www.silverberg-gymnasium.de/event/1-lk-im-sj-2026-27/
END:VEVENT
BEGIN:VEVENT
DTSTART;TZID=Europe/Berlin:20260901T133000
DTEND;TZID=Europe/Berlin:20260901T150000
DTSTAMP:20260421T202626
CREATED:20260318T233137Z
LAST-MODIFIED:20260318T233148Z
UID:1632384-1788269400-1788274800@www.silverberg-gymnasium.de
SUMMARY:mündliche Nachprüfungen
DESCRIPTION:
URL:https://www.silverberg-gymnasium.de/event/muendliche-nachpruefungen-2/
END:VEVENT
BEGIN:VEVENT
DTSTART;TZID=Europe/Berlin:20260901T140000
DTEND;TZID=Europe/Berlin:20260901T150000
DTSTAMP:20260421T202626
CREATED:20260318T233137Z
LAST-MODIFIED:20260318T233147Z
UID:1632381-1788271200-1788274800@www.silverberg-gymnasium.de
SUMMARY:DB Erprobungsstufe 5/6
DESCRIPTION:
URL:https://www.silverberg-gymnasium.de/event/db-erprobungsstufe-5-6/
END:VEVENT
BEGIN:VEVENT
DTSTART;TZID=Europe/Berlin:20260901T150000
DTEND;TZID=Europe/Berlin:20260901T160000
DTSTAMP:20260421T202626
CREATED:20260318T233137Z
LAST-MODIFIED:20260318T233147Z
UID:1632380-1788274800-1788278400@www.silverberg-gymnasium.de
SUMMARY:DB Klassenleitungen 7 und 8  (Übergabegespräche)
DESCRIPTION:
URL:https://www.silverberg-gymnasium.de/event/db-klassenleitungen-7-und-8-uebergabegespraeche/
LOCATION:LA
END:VEVENT
BEGIN:VEVENT
DTSTART;VALUE=DATE:20260902
DTEND;VALUE=DATE:20260903
DTSTAMP:20260421T202626
CREATED:20260318T233137Z
LAST-MODIFIED:20260318T233148Z
UID:1632382-1788307200-1788393599@www.silverberg-gymnasium.de
SUMMARY:1.Schultag im SJ 2026-27
DESCRIPTION:
URL:https://www.silverberg-gymnasium.de/event/1-schultag-im-sj-2026-27/
END:VEVENT
BEGIN:VEVENT
DTSTART;VALUE=DATE:20270705
DTEND;VALUE=DATE:20270716
DTSTAMP:20260421T202626
CREATED:20260318T233137Z
LAST-MODIFIED:20260318T233148Z
UID:1632385-1814745600-1815695999@www.silverberg-gymnasium.de
SUMMARY:Berufsorientierungspraktikum Jgst. EF
DESCRIPTION:
URL:https://www.silverberg-gymnasium.de/event/berufsorientierungspraktikum-jgst-ef-2/
END:VEVENT
END:VCALENDAR