BEGIN:VCALENDAR
VERSION:2.0
PRODID:-//Silverberg-Gymnasium Bedburg - ECPv6.15.20//NONSGML v1.0//EN
CALSCALE:GREGORIAN
METHOD:PUBLISH
X-WR-CALNAME:Silverberg-Gymnasium Bedburg
X-ORIGINAL-URL:https://www.silverberg-gymnasium.de
X-WR-CALDESC:Veranstaltungen für Silverberg-Gymnasium Bedburg
REFRESH-INTERVAL;VALUE=DURATION:PT1H
X-Robots-Tag:noindex
X-PUBLISHED-TTL:PT1H
BEGIN:VTIMEZONE
TZID:Europe/Berlin
BEGIN:DAYLIGHT
TZOFFSETFROM:+0100
TZOFFSETTO:+0200
TZNAME:CEST
DTSTART:20230326T010000
END:DAYLIGHT
BEGIN:STANDARD
TZOFFSETFROM:+0200
TZOFFSETTO:+0100
TZNAME:CET
DTSTART:20231029T010000
END:STANDARD
BEGIN:DAYLIGHT
TZOFFSETFROM:+0100
TZOFFSETTO:+0200
TZNAME:CEST
DTSTART:20240331T010000
END:DAYLIGHT
BEGIN:STANDARD
TZOFFSETFROM:+0200
TZOFFSETTO:+0100
TZNAME:CET
DTSTART:20241027T010000
END:STANDARD
BEGIN:DAYLIGHT
TZOFFSETFROM:+0100
TZOFFSETTO:+0200
TZNAME:CEST
DTSTART:20250330T010000
END:DAYLIGHT
BEGIN:STANDARD
TZOFFSETFROM:+0200
TZOFFSETTO:+0100
TZNAME:CET
DTSTART:20251026T010000
END:STANDARD
END:VTIMEZONE
BEGIN:VEVENT
DTSTART;VALUE=DATE:20240925
DTEND;VALUE=DATE:20241003
DTSTAMP:20260422T205730
CREATED:20240925T223811Z
LAST-MODIFIED:20241003T042824Z
UID:835712-1727222400-1727913599@www.silverberg-gymnasium.de
SUMMARY:Französisch-deutscher Schüleraustausch (deutsche Schüler/innen in Saint-Étienne) bis 02.10.2024  (betrifft die Kl.9a-9e\, 10b\, 10c)
DESCRIPTION:
URL:https://www.silverberg-gymnasium.de/event/franzoesisch-deutscher-schueleraustausch-deutsche-schueler-innen-in-saint-etienne-bis-02-10-2024-betrifft-die-kl-9a-9e-10b-10c/
END:VEVENT
BEGIN:VEVENT
DTSTART;VALUE=DATE:20241001
DTEND;VALUE=DATE:20241002
DTSTAMP:20260422T205730
CREATED:20241001T225913Z
LAST-MODIFIED:20241001T225913Z
UID:854726-1727740800-1727827199@www.silverberg-gymnasium.de
SUMMARY:Fahrradkontrolle der 6. - 10. Klassen
DESCRIPTION:
URL:https://www.silverberg-gymnasium.de/event/fahrradkontrolle-der-6-10-klassen/
END:VEVENT
BEGIN:VEVENT
DTSTART;VALUE=DATE:20241002
DTEND;VALUE=DATE:20241003
DTSTAMP:20260422T205730
CREATED:20241002T225840Z
LAST-MODIFIED:20241003T042824Z
UID:857757-1727827200-1727913599@www.silverberg-gymnasium.de
SUMMARY:Fahrradtraining der Klassen 5d  und  anschließender Fahrradkontrolle
DESCRIPTION:
URL:https://www.silverberg-gymnasium.de/event/fahrradtraining-der-klassen-5d-und-anschliessender-fahrradkontrolle/
END:VEVENT
BEGIN:VEVENT
DTSTART;VALUE=DATE:20241003
DTEND;VALUE=DATE:20241004
DTSTAMP:20260422T205730
CREATED:20241003T225912Z
LAST-MODIFIED:20241003T225912Z
UID:860937-1727913600-1727999999@www.silverberg-gymnasium.de
SUMMARY:Tag der deutschen Einheit
DESCRIPTION:
URL:https://www.silverberg-gymnasium.de/event/tag-der-deutschen-einheit-3/
END:VEVENT
BEGIN:VEVENT
DTSTART;TZID=Europe/Berlin:20241004T120000
DTEND;TZID=Europe/Berlin:20241004T150000
DTSTAMP:20260422T205730
CREATED:20241004T125825Z
LAST-MODIFIED:20241004T125825Z
UID:862461-1728043200-1728054000@www.silverberg-gymnasium.de
SUMMARY:12-15 Uhr Clean-Up-Day\,  1-4 Std. Unterricht !
DESCRIPTION:
URL:https://www.silverberg-gymnasium.de/event/12-15-uhr-clean-up-day-1-4-std-unterricht/
END:VEVENT
BEGIN:VEVENT
DTSTART;VALUE=DATE:20241005
DTEND;VALUE=DATE:20241006
DTSTAMP:20260422T205730
CREATED:20241005T224409Z
LAST-MODIFIED:20241005T224409Z
UID:867195-1728086400-1728172799@www.silverberg-gymnasium.de
SUMMARY:Erste Hilfe Kurs für Schülerinnen und Schüler ab Klasse 9
DESCRIPTION:
URL:https://www.silverberg-gymnasium.de/event/erste-hilfe-kurs-fuer-schuelerinnen-und-schueler-ab-klasse-9-2/
END:VEVENT
BEGIN:VEVENT
DTSTART;VALUE=DATE:20241007
DTEND;VALUE=DATE:20241012
DTSTAMP:20260422T205730
CREATED:20241007T225937Z
LAST-MODIFIED:20241011T224340Z
UID:872984-1728259200-1728691199@www.silverberg-gymnasium.de
SUMMARY:SJ 2024-25\, Q2-Stufenfahrt nach München und nach Dresden 07.10. - 11.10.2024
DESCRIPTION:
URL:https://www.silverberg-gymnasium.de/event/sj-2024-25-q2-stufenfahrt-nach-muenchen-und-nach-dresden-07-10-11-10-2024/
END:VEVENT
BEGIN:VEVENT
DTSTART;TZID=Europe/Berlin:20241008T163000
DTEND;TZID=Europe/Berlin:20241008T190000
DTSTAMP:20260422T205730
CREATED:20241008T165853Z
LAST-MODIFIED:20241008T165853Z
UID:874840-1728405000-1728414000@www.silverberg-gymnasium.de
SUMMARY:FS-Konferenz Deutsch\, ASP Frau Lay
DESCRIPTION:
URL:https://www.silverberg-gymnasium.de/event/fs-konferenz-deutsch-asp-frau-lay/
LOCATION:A10
END:VEVENT
BEGIN:VEVENT
DTSTART;TZID=Europe/Berlin:20241009T193000
DTEND;TZID=Europe/Berlin:20241009T210000
DTSTAMP:20260422T205730
CREATED:20241009T185823Z
LAST-MODIFIED:20241009T185823Z
UID:878146-1728502200-1728507600@www.silverberg-gymnasium.de
SUMMARY:"Die Welt im Blick"-Lesung von SuS der EF im Rahmen der jüdischen Kulturwochen 2024
DESCRIPTION:
URL:https://www.silverberg-gymnasium.de/event/die-welt-im-blick-lesung-von-sus-der-ef-im-rahmen-der-juedischen-kulturwochen-2024/
END:VEVENT
BEGIN:VEVENT
DTSTART;TZID=Europe/Berlin:20241010T164500
DTEND;TZID=Europe/Berlin:20241010T190000
DTSTAMP:20260422T205730
CREATED:20241010T165900Z
LAST-MODIFIED:20241010T165900Z
UID:880723-1728578700-1728586800@www.silverberg-gymnasium.de
SUMMARY:FS-Konferenz Religion\, Fr. Müller\,
DESCRIPTION:
URL:https://www.silverberg-gymnasium.de/event/fs-konferenz-religion-fr-mueller/
LOCATION:A12
END:VEVENT
BEGIN:VEVENT
DTSTART;VALUE=DATE:20241014
DTEND;VALUE=DATE:20241027
DTSTAMP:20260422T205730
CREATED:20241014T224328Z
LAST-MODIFIED:20241026T224323Z
UID:892995-1728864000-1729987199@www.silverberg-gymnasium.de
SUMMARY:Herbstferien 14.10.- 26.10.2024
DESCRIPTION:
URL:https://www.silverberg-gymnasium.de/event/herbstferien-14-10-26-10-2024/
END:VEVENT
BEGIN:VEVENT
DTSTART;VALUE=DATE:20241028
DTEND;VALUE=DATE:20241029
DTSTAMP:20260422T205730
CREATED:20241028T234323Z
LAST-MODIFIED:20241028T234323Z
UID:934056-1730073600-1730159999@www.silverberg-gymnasium.de
SUMMARY:9:30 Uhr Eröffnung Ausstellung "Aufarbeitung. Die DDR in der Erinnerungskultur"
DESCRIPTION:
URL:https://www.silverberg-gymnasium.de/event/930-uhr-eroeffnung-ausstellung-aufarbeitung-die-ddr-in-der-erinnerungskultur/
END:VEVENT
BEGIN:VEVENT
DTSTART;VALUE=DATE:20241028
DTEND;VALUE=DATE:20241109
DTSTAMP:20260422T205730
CREATED:20241028T234328Z
LAST-MODIFIED:20241108T234922Z
UID:934063-1730073600-1731110399@www.silverberg-gymnasium.de
SUMMARY:Ausstellung "Die DDR in der Erinnerungskultur" bis 08.11.2024
DESCRIPTION:
URL:https://www.silverberg-gymnasium.de/event/ausstellung-die-ddr-in-der-erinnerungskultur-bis-08-11-2024/
LOCATION:PZ\, Eichendorffstraße 1\, Bedburg\, 50181\, Deutschland
END:VEVENT
BEGIN:VEVENT
DTSTART;TZID=Europe/Berlin:20241028T160000
DTEND;TZID=Europe/Berlin:20241028T180000
DTSTAMP:20260422T205730
CREATED:20241028T165841Z
LAST-MODIFIED:20241028T165841Z
UID:932979-1730131200-1730138400@www.silverberg-gymnasium.de
SUMMARY:FS-Konferenz Sport\, ASP Frau Schönfeld
DESCRIPTION:
URL:https://www.silverberg-gymnasium.de/event/fs-konferenz-sport-asp-frau-schoenfeld/
LOCATION:A10
END:VEVENT
BEGIN:VEVENT
DTSTART;TZID=Europe/Berlin:20241029T140000
DTEND;TZID=Europe/Berlin:20241029T160000
DTSTAMP:20260422T205730
CREATED:20241029T145848Z
LAST-MODIFIED:20241029T145848Z
UID:935821-1730210400-1730217600@www.silverberg-gymnasium.de
SUMMARY:Lehrerinnen- und Lehrersprechtag für Klassenleitungen der GS und Klassenleitungen 5
DESCRIPTION:
URL:https://www.silverberg-gymnasium.de/event/lehrerinnen-und-lehrersprechtag-fuer-klassenleitungen-der-gs-und-klassenleitungen-5/
LOCATION:SLZ
END:VEVENT
BEGIN:VEVENT
DTSTART;TZID=Europe/Berlin:20241029T151500
DTEND;TZID=Europe/Berlin:20241029T171500
DTSTAMP:20260422T205730
CREATED:20241029T155827Z
LAST-MODIFIED:20241029T155827Z
UID:936002-1730214900-1730222100@www.silverberg-gymnasium.de
SUMMARY:FS-Konferenz Latein\, ASP Fr. Scholz
DESCRIPTION:
URL:https://www.silverberg-gymnasium.de/event/fs-konferenz-latein-asp-fr-scholz/
LOCATION:A10
END:VEVENT
BEGIN:VEVENT
DTSTART;TZID=Europe/Berlin:20241029T183000
DTEND;TZID=Europe/Berlin:20241029T210000
DTSTAMP:20260422T205730
CREATED:20241029T195851Z
LAST-MODIFIED:20241029T195851Z
UID:936685-1730226600-1730235600@www.silverberg-gymnasium.de
SUMMARY:Einladung zum Informationsabend für Eltern der Jg 9 und EF zur Einführung der iPads in der Aula
DESCRIPTION:
URL:https://www.silverberg-gymnasium.de/event/einladung-zum-informationsabend-fuer-eltern-der-jg-9-und-ef-zur-einfuehrung-der-ipads-in-der-aula/
END:VEVENT
BEGIN:VEVENT
DTSTART;TZID=Europe/Berlin:20241031T074500
DTEND;TZID=Europe/Berlin:20241031T131500
DTSTAMP:20260422T205730
CREATED:20241031T115829Z
LAST-MODIFIED:20241031T115843Z
UID:941059-1730360700-1730380500@www.silverberg-gymnasium.de
SUMMARY:Fahrradtraining der Klassen 5a und anschließender Fahrradkontrolle
DESCRIPTION:
URL:https://www.silverberg-gymnasium.de/event/fahrradtraining-der-klassen-5a-und-anschliessender-fahrradkontrolle/
END:VEVENT
END:VCALENDAR