BEGIN:VCALENDAR
VERSION:2.0
PRODID:-//Silverberg-Gymnasium Bedburg - ECPv6.15.20//NONSGML v1.0//EN
CALSCALE:GREGORIAN
METHOD:PUBLISH
X-ORIGINAL-URL:https://www.silverberg-gymnasium.de
X-WR-CALDESC:Veranstaltungen für Silverberg-Gymnasium Bedburg
REFRESH-INTERVAL;VALUE=DURATION:PT1H
X-Robots-Tag:noindex
X-PUBLISHED-TTL:PT1H
BEGIN:VTIMEZONE
TZID:Europe/Berlin
BEGIN:DAYLIGHT
TZOFFSETFROM:+0100
TZOFFSETTO:+0200
TZNAME:CEST
DTSTART:20230326T010000
END:DAYLIGHT
BEGIN:STANDARD
TZOFFSETFROM:+0200
TZOFFSETTO:+0100
TZNAME:CET
DTSTART:20231029T010000
END:STANDARD
BEGIN:DAYLIGHT
TZOFFSETFROM:+0100
TZOFFSETTO:+0200
TZNAME:CEST
DTSTART:20240331T010000
END:DAYLIGHT
BEGIN:STANDARD
TZOFFSETFROM:+0200
TZOFFSETTO:+0100
TZNAME:CET
DTSTART:20241027T010000
END:STANDARD
BEGIN:DAYLIGHT
TZOFFSETFROM:+0100
TZOFFSETTO:+0200
TZNAME:CEST
DTSTART:20250330T010000
END:DAYLIGHT
BEGIN:STANDARD
TZOFFSETFROM:+0200
TZOFFSETTO:+0100
TZNAME:CET
DTSTART:20251026T010000
END:STANDARD
END:VTIMEZONE
BEGIN:VEVENT
DTSTART;VALUE=DATE:20241028
DTEND;VALUE=DATE:20241109
DTSTAMP:20260422T192137
CREATED:20241028T234328Z
LAST-MODIFIED:20241108T234922Z
UID:934063-1730073600-1731110399@www.silverberg-gymnasium.de
SUMMARY:Ausstellung "Die DDR in der Erinnerungskultur" bis 08.11.2024
DESCRIPTION:
URL:https://www.silverberg-gymnasium.de/event/ausstellung-die-ddr-in-der-erinnerungskultur-bis-08-11-2024/
LOCATION:PZ\, Eichendorffstraße 1\, Bedburg\, 50181\, Deutschland
END:VEVENT
BEGIN:VEVENT
DTSTART;VALUE=DATE:20241104
DTEND;VALUE=DATE:20241105
DTSTAMP:20260422T192137
CREATED:20241104T234343Z
LAST-MODIFIED:20241104T234343Z
UID:954047-1730678400-1730764799@www.silverberg-gymnasium.de
SUMMARY:November :  Verkehrserziehung in den Klassen 8 - Termin folgt
DESCRIPTION:
URL:https://www.silverberg-gymnasium.de/event/november-verkehrserziehung-in-den-klassen-8-termin-folgt/
END:VEVENT
BEGIN:VEVENT
DTSTART;TZID=Europe/Berlin:20241104T170000
DTEND;TZID=Europe/Berlin:20241104T190000
DTSTAMP:20260422T192137
CREATED:20241104T175820Z
LAST-MODIFIED:20241104T175820Z
UID:953235-1730739600-1730746800@www.silverberg-gymnasium.de
SUMMARY:FS-Konferenz Kunst\, ASP Fr.Nentwig
DESCRIPTION:
URL:https://www.silverberg-gymnasium.de/event/fs-konferenz-kunst-asp-fr-nentwig/
LOCATION:B21
END:VEVENT
BEGIN:VEVENT
DTSTART;TZID=Europe/Berlin:20241105T160000
DTEND;TZID=Europe/Berlin:20241105T170000
DTSTAMP:20260422T192137
CREATED:20241105T145824Z
LAST-MODIFIED:20241105T152818Z
UID:955503-1730822400-1730826000@www.silverberg-gymnasium.de
SUMMARY:FS-Konferenz Informatik\, ASP Hr. Funk
DESCRIPTION:
URL:https://www.silverberg-gymnasium.de/event/fs-konferenz-informatik-asp-hr-funk/
LOCATION:D17
END:VEVENT
BEGIN:VEVENT
DTSTART;TZID=Europe/Berlin:20241105T173000
DTEND;TZID=Europe/Berlin:20241105T193000
DTSTAMP:20260422T192137
CREATED:20241105T175827Z
LAST-MODIFIED:20241105T175827Z
UID:955832-1730827800-1730835000@www.silverberg-gymnasium.de
SUMMARY:FS-Konferenz Französisch\, ASP Frau Vosen
DESCRIPTION:
URL:https://www.silverberg-gymnasium.de/event/fs-konferenz-franzoesisch-asp-frau-vosen/
LOCATION:A12
END:VEVENT
BEGIN:VEVENT
DTSTART;VALUE=DATE:20241106
DTEND;VALUE=DATE:20241109
DTSTAMP:20260422T192137
CREATED:20241106T225848Z
LAST-MODIFIED:20241108T234921Z
UID:958813-1730851200-1731110399@www.silverberg-gymnasium.de
SUMMARY:Freusburgfahrt der Klassen 5 bis 08.11.2024
DESCRIPTION:
URL:https://www.silverberg-gymnasium.de/event/freusburgfahrt-der-klassen-5-bis-08-11-2024/
END:VEVENT
BEGIN:VEVENT
DTSTART;VALUE=DATE:20241108
DTEND;VALUE=DATE:20241118
DTSTAMP:20260422T192137
CREATED:20241108T234925Z
LAST-MODIFIED:20241111T154901Z
UID:963312-1731024000-1731887999@www.silverberg-gymnasium.de
SUMMARY:Erasmus+ - 2. Internationales Treffen in Bedburg bis zum 17.11.2024 - spanische SuS in Bedburg
DESCRIPTION:
URL:https://www.silverberg-gymnasium.de/event/erasmus-2-internationales-treffen-in-bedburg-bis-zum-17-11-2024-spanische-sus-in-bedburg/
END:VEVENT
BEGIN:VEVENT
DTSTART;TZID=Europe/Berlin:20241112T134500
DTEND;TZID=Europe/Berlin:20241112T154500
DTSTAMP:20260422T192137
CREATED:20241111T154902Z
LAST-MODIFIED:20241111T154902Z
UID:970191-1731419100-1731426300@www.silverberg-gymnasium.de
SUMMARY:Beobachtungskonferenz der Klassen 8
DESCRIPTION:
URL:https://www.silverberg-gymnasium.de/event/beobachtungskonferenz-der-klassen-8/
END:VEVENT
BEGIN:VEVENT
DTSTART;VALUE=DATE:20241115
DTEND;VALUE=DATE:20241116
DTSTAMP:20260422T192137
CREATED:20241111T154903Z
LAST-MODIFIED:20241111T154903Z
UID:970192-1731628800-1731715199@www.silverberg-gymnasium.de
SUMMARY:Beginn Anmeldung Deutscher Gründerpreis ( Teamwettbewerb ab Jgst. 9)
DESCRIPTION:
URL:https://www.silverberg-gymnasium.de/event/beginn-anmeldung-deutscher-gruenderpreis-teamwettbewerb-ab-jgst-9/
END:VEVENT
BEGIN:VEVENT
DTSTART;VALUE=DATE:20241115
DTEND;VALUE=DATE:20241116
DTSTAMP:20260422T192137
CREATED:20241111T154905Z
LAST-MODIFIED:20241111T154905Z
UID:970195-1731628800-1731715199@www.silverberg-gymnasium.de
SUMMARY:Quartalsende  für die Jgst.EF (Leistungsstandsübersicht Jgst. 5-10)
DESCRIPTION:
URL:https://www.silverberg-gymnasium.de/event/quartalsende-fuer-die-jgst-ef-leistungsstandsuebersicht-jgst-5-10/
END:VEVENT
BEGIN:VEVENT
DTSTART;TZID=Europe/Berlin:20241115T143000
DTEND;TZID=Europe/Berlin:20241115T183000
DTSTAMP:20260422T192137
CREATED:20241111T154904Z
LAST-MODIFIED:20241111T154904Z
UID:970193-1731681000-1731695400@www.silverberg-gymnasium.de
SUMMARY:1. Elternsprechtag im SJ 2024-25
DESCRIPTION:
URL:https://www.silverberg-gymnasium.de/event/1-elternsprechtag-im-sj-2024-25/
END:VEVENT
BEGIN:VEVENT
DTSTART;VALUE=DATE:20241116
DTEND;VALUE=DATE:20241117
DTSTAMP:20260422T192137
CREATED:20241111T154905Z
LAST-MODIFIED:20241111T154905Z
UID:970194-1731715200-1731801599@www.silverberg-gymnasium.de
SUMMARY:2. Runde der Mathematik-Olympiade (Teilnahme nach Einladung)
DESCRIPTION:
URL:https://www.silverberg-gymnasium.de/event/2-runde-der-mathematik-olympiade-teilnahme-nach-einladung-2/
END:VEVENT
BEGIN:VEVENT
DTSTART;TZID=Europe/Berlin:20241118T074500
DTEND;TZID=Europe/Berlin:20241118T131500
DTSTAMP:20260422T192137
CREATED:20241111T154905Z
LAST-MODIFIED:20241111T154905Z
UID:970196-1731915900-1731935700@www.silverberg-gymnasium.de
SUMMARY:Fahrradtraining der Klassen 5c und anschließender Fahrradkontrolle
DESCRIPTION:
URL:https://www.silverberg-gymnasium.de/event/fahrradtraining-der-klassen-5c-und-anschliessender-fahrradkontrolle/
END:VEVENT
BEGIN:VEVENT
DTSTART;VALUE=DATE:20241119
DTEND;VALUE=DATE:20241120
DTSTAMP:20260422T192137
CREATED:20241111T154905Z
LAST-MODIFIED:20241111T154905Z
UID:970198-1731974400-1732060799@www.silverberg-gymnasium.de
SUMMARY:Jgst 10: Aktionstag "Demokratie leben"\, Exkursion nach Vogelsang
DESCRIPTION:
URL:https://www.silverberg-gymnasium.de/event/jgst-10-aktionstag-demokratie-leben-exkursion-nach-vogelsang/
END:VEVENT
BEGIN:VEVENT
DTSTART;TZID=Europe/Berlin:20241119T074500
DTEND;TZID=Europe/Berlin:20241119T131500
DTSTAMP:20260422T192137
CREATED:20241111T154905Z
LAST-MODIFIED:20241111T154905Z
UID:970199-1732002300-1732022100@www.silverberg-gymnasium.de
SUMMARY:Fahrradtraining der Klassen 5b und anschließender Fahrradkontrolle
DESCRIPTION:
URL:https://www.silverberg-gymnasium.de/event/fahrradtraining-der-klassen-5b-und-anschliessender-fahrradkontrolle/
END:VEVENT
BEGIN:VEVENT
DTSTART;TZID=Europe/Berlin:20241119T150000
DTEND;TZID=Europe/Berlin:20241119T170000
DTSTAMP:20260422T192137
CREATED:20241111T154905Z
LAST-MODIFIED:20241111T154905Z
UID:970197-1732028400-1732035600@www.silverberg-gymnasium.de
SUMMARY:FS-Spanisch-Konferenz\, ASP Fr. Demmel
DESCRIPTION:
URL:https://www.silverberg-gymnasium.de/event/fs-spanisch-konferenz-asp-fr-demmel/
LOCATION:E08
END:VEVENT
BEGIN:VEVENT
DTSTART;VALUE=DATE:20241122
DTEND;VALUE=DATE:20241123
DTSTAMP:20260422T192137
CREATED:20241111T154905Z
LAST-MODIFIED:20241111T154905Z
UID:970200-1732233600-1732319999@www.silverberg-gymnasium.de
SUMMARY:Macht Mathe Wettbewerbe (Olympiade und B-Tag (Teamwettbewerb in der Schule ab Klasse 10)
DESCRIPTION:
URL:https://www.silverberg-gymnasium.de/event/macht-mathe-wettbewerbe-olympiade-und-b-tag-teamwettbewerb-in-der-schule-ab-klasse-10-3/
END:VEVENT
BEGIN:VEVENT
DTSTART;TZID=Europe/Berlin:20241123T083000
DTEND;TZID=Europe/Berlin:20241123T130000
DTSTAMP:20260422T192137
CREATED:20241111T154905Z
LAST-MODIFIED:20241111T154905Z
UID:970201-1732350600-1732366800@www.silverberg-gymnasium.de
SUMMARY:Informationstag für Klassen 4  (TOT) bis 13.00 Uhr
DESCRIPTION:
URL:https://www.silverberg-gymnasium.de/event/informationstag-fuer-klassen-4-tot-bis-13-00-uhr/
END:VEVENT
BEGIN:VEVENT
DTSTART;VALUE=DATE:20241126
DTEND;VALUE=DATE:20241127
DTSTAMP:20260422T192137
CREATED:20241126T233359Z
LAST-MODIFIED:20241126T233359Z
UID:971628-1732579200-1732665599@www.silverberg-gymnasium.de
SUMMARY:Fahrradkontrolle der 6. - 10. Klassen - neuer Termin !
DESCRIPTION:
URL:https://www.silverberg-gymnasium.de/event/fahrradkontrolle-der-6-10-klassen-neuer-termin/
END:VEVENT
BEGIN:VEVENT
DTSTART;TZID=Europe/Berlin:20241126T141500
DTEND;TZID=Europe/Berlin:20241126T161500
DTSTAMP:20260422T192137
CREATED:20241126T144857Z
LAST-MODIFIED:20241126T144904Z
UID:970694-1732630500-1732637700@www.silverberg-gymnasium.de
SUMMARY:3. Lehrerkonferenz im SJ 2024-25
DESCRIPTION:
URL:https://www.silverberg-gymnasium.de/event/3-lehrerkonferenz-im-sj-2024-25/
LOCATION:LZ
END:VEVENT
BEGIN:VEVENT
DTSTART;TZID=Europe/Berlin:20241126T183000
DTEND;TZID=Europe/Berlin:20241126T200000
DTSTAMP:20260422T192137
CREATED:20241126T184858Z
LAST-MODIFIED:20241126T184858Z
UID:971098-1732645800-1732651200@www.silverberg-gymnasium.de
SUMMARY:Infoabend Auslandsaufenthalte verschoben - NT 03.12.2024
DESCRIPTION:
URL:https://www.silverberg-gymnasium.de/event/infoabend-auslandsaufenthalte-verschoben-nt-03-12-2024/
LOCATION:Raum A21
END:VEVENT
END:VCALENDAR