BEGIN:VCALENDAR
VERSION:2.0
PRODID:-//Silverberg-Gymnasium Bedburg - ECPv6.15.20//NONSGML v1.0//EN
CALSCALE:GREGORIAN
METHOD:PUBLISH
X-ORIGINAL-URL:https://www.silverberg-gymnasium.de
X-WR-CALDESC:Veranstaltungen für Silverberg-Gymnasium Bedburg
REFRESH-INTERVAL;VALUE=DURATION:PT1H
X-Robots-Tag:noindex
X-PUBLISHED-TTL:PT1H
BEGIN:VTIMEZONE
TZID:Europe/Berlin
BEGIN:DAYLIGHT
TZOFFSETFROM:+0100
TZOFFSETTO:+0200
TZNAME:CEST
DTSTART:20240331T010000
END:DAYLIGHT
BEGIN:STANDARD
TZOFFSETFROM:+0200
TZOFFSETTO:+0100
TZNAME:CET
DTSTART:20241027T010000
END:STANDARD
BEGIN:DAYLIGHT
TZOFFSETFROM:+0100
TZOFFSETTO:+0200
TZNAME:CEST
DTSTART:20250330T010000
END:DAYLIGHT
BEGIN:STANDARD
TZOFFSETFROM:+0200
TZOFFSETTO:+0100
TZNAME:CET
DTSTART:20251026T010000
END:STANDARD
BEGIN:DAYLIGHT
TZOFFSETFROM:+0100
TZOFFSETTO:+0200
TZNAME:CEST
DTSTART:20260329T010000
END:DAYLIGHT
BEGIN:STANDARD
TZOFFSETFROM:+0200
TZOFFSETTO:+0100
TZNAME:CET
DTSTART:20261025T010000
END:STANDARD
END:VTIMEZONE
BEGIN:VEVENT
DTSTART;VALUE=DATE:20250224
DTEND;VALUE=DATE:20250322
DTSTAMP:20260422T125126
CREATED:20250224T233512Z
LAST-MODIFIED:20250321T235032Z
UID:1158733-1740355200-1742601599@www.silverberg-gymnasium.de
SUMMARY:Anmeldungen der neuen Fünftklässler SJ 2025-26  und Anmeldungen für die gymnasialen Oberstufe von 24.02. - 21.03.2025; Mo.- Do. von 08.00 - 12.00 Uhr und 13.00 - 15.30 Uhr\, Fr. von 8.00 -12.00 Uhr\, Freitagnachmittags Sekretariat geschlossen - Achtung !-  Online Anmeldung möglich   oder   nach telefonischer Terminabsprache !
DESCRIPTION:
URL:https://www.silverberg-gymnasium.de/event/anmeldungen-der-neuen-fuenftklaessler-sj-2025-26-und-anmeldungen-fuer-die-gymnasialen-oberstufe-von-24-02-21-03-2025-mo-do-von-08-00-12-00-uhr-und-13-00-15-30-uhr-fr-von-8-00-12-00-uhr/
END:VEVENT
BEGIN:VEVENT
DTSTART;VALUE=DATE:20250227
DTEND;VALUE=DATE:20250305
DTSTAMP:20260422T125126
CREATED:20250227T233506Z
LAST-MODIFIED:20250304T235016Z
UID:1167890-1740614400-1741132799@www.silverberg-gymnasium.de
SUMMARY:In der Karnevalszeit (27.02. - 04.03.2025) ist das Sekretariat nicht besetzt.
DESCRIPTION:
URL:https://www.silverberg-gymnasium.de/event/in-der-karnevalszeit-27-02-04-03-2025-ist-das-sekretariat-nicht-besetzt/
END:VEVENT
BEGIN:VEVENT
DTSTART;TZID=Europe/Berlin:20250303T073000
DTEND;TZID=Europe/Berlin:20250303T160000
DTSTAMP:20260422T125126
CREATED:20250303T135001Z
LAST-MODIFIED:20250303T142013Z
UID:1178433-1740987000-1741017600@www.silverberg-gymnasium.de
SUMMARY:Rosenmontag: 2. beweglicher Ferientag   - unterrichtsfrei -
DESCRIPTION:
URL:https://www.silverberg-gymnasium.de/event/rosenmontag-2-beweglicher-ferientag-unterrichtsfrei-3/
END:VEVENT
BEGIN:VEVENT
DTSTART;TZID=Europe/Berlin:20250304T073000
DTEND;TZID=Europe/Berlin:20250304T160000
DTSTAMP:20260422T125126
CREATED:20250304T145003Z
LAST-MODIFIED:20250304T145015Z
UID:1181530-1741073400-1741104000@www.silverberg-gymnasium.de
SUMMARY:Veilchendienstag:  3. beweglicher Ferientag   - unterrichtsfrei -
DESCRIPTION:
URL:https://www.silverberg-gymnasium.de/event/veilchendienstag-3-beweglicher-ferientag-unterrichtsfrei-3/
END:VEVENT
BEGIN:VEVENT
DTSTART;VALUE=DATE:20250305
DTEND;VALUE=DATE:20250306
DTSTAMP:20260422T125126
CREATED:20250305T235002Z
LAST-MODIFIED:20250305T235002Z
UID:1186206-1741132800-1741219199@www.silverberg-gymnasium.de
SUMMARY:Beginn des Schreibwettbewerbs für Jgst. 5 - 10 bis zum 28.04.2025
DESCRIPTION:
URL:https://www.silverberg-gymnasium.de/event/beginn-des-schreibwettbewerbs-fuer-jgst-5-10-bis-zum-28-04-2025/
END:VEVENT
BEGIN:VEVENT
DTSTART;TZID=Europe/Berlin:20250305T083000
DTEND;TZID=Europe/Berlin:20250305T090000
DTSTAMP:20260422T125126
CREATED:20250305T073505Z
LAST-MODIFIED:20250305T073505Z
UID:1183442-1741163400-1741165200@www.silverberg-gymnasium.de
SUMMARY:Vortrag zum Thema KI im Unterricht (schulformübergreifend in der Aula)
DESCRIPTION:
URL:https://www.silverberg-gymnasium.de/event/vortrag-zum-thema-ki-im-unterricht-schulformuebergreifend-in-der-aula/
END:VEVENT
BEGIN:VEVENT
DTSTART;TZID=Europe/Berlin:20250305T163000
DTEND;TZID=Europe/Berlin:20250305T190000
DTSTAMP:20260422T125126
CREATED:20250305T173507Z
LAST-MODIFIED:20250305T173507Z
UID:1185114-1741192200-1741201200@www.silverberg-gymnasium.de
SUMMARY:2.Sitzung Schulentwicklungsgruppe
DESCRIPTION:
URL:https://www.silverberg-gymnasium.de/event/2-sitzung-schulentwicklungsgruppe/
LOCATION:SLZ
END:VEVENT
BEGIN:VEVENT
DTSTART;TZID=Europe/Berlin:20250306T190000
DTEND;TZID=Europe/Berlin:20250306T200000
DTSTAMP:20260422T125126
CREATED:20250306T185005Z
LAST-MODIFIED:20250306T185005Z
UID:1188034-1741287600-1741291200@www.silverberg-gymnasium.de
SUMMARY:Einführende Informationsveranstaltung über den Bildungsgang zur gymnasialen Oberstufe
DESCRIPTION:
URL:https://www.silverberg-gymnasium.de/event/einfuehrende-informationsveranstaltung-ueber-den-bildungsgang-zur-gymnasialen-oberstufe/
LOCATION:Aula\, Eichendorffstraße 1\, Bedburg\, 50181\, Deutschland
END:VEVENT
BEGIN:VEVENT
DTSTART;VALUE=DATE:20250310
DTEND;VALUE=DATE:20250311
DTSTAMP:20260422T125126
CREATED:20250310T233505Z
LAST-MODIFIED:20250310T233505Z
UID:1200131-1741564800-1741651199@www.silverberg-gymnasium.de
SUMMARY:11. oder 12. KW Lernstandserhebungen Jgst. 8 in Deutsch\, Mathematik\,Englisch (Vera 8)
DESCRIPTION:
URL:https://www.silverberg-gymnasium.de/event/11-oder-12-kw-lernstandserhebungen-jgst-8-in-deutsch-mathematikenglisch-vera-8/
END:VEVENT
BEGIN:VEVENT
DTSTART;TZID=Europe/Berlin:20250311T094500
DTEND;TZID=Europe/Berlin:20250311T112000
DTSTAMP:20260422T125126
CREATED:20250311T095005Z
LAST-MODIFIED:20250311T095005Z
UID:1201018-1741686300-1741692000@www.silverberg-gymnasium.de
SUMMARY:Workshop "Sicherheit im Internet" (Klassen 7a in 3.-4.Std. )
DESCRIPTION:
URL:https://www.silverberg-gymnasium.de/event/workshop-sicherheit-im-internet-klassen-7a-in-3-4-std/
END:VEVENT
BEGIN:VEVENT
DTSTART;TZID=Europe/Berlin:20250311T114000
DTEND;TZID=Europe/Berlin:20250311T131500
DTSTAMP:20260422T125126
CREATED:20250311T115004Z
LAST-MODIFIED:20250311T115004Z
UID:1201367-1741693200-1741698900@www.silverberg-gymnasium.de
SUMMARY:Workshop "Sicherheit im Internet" (Klassen 7b in 5.-6. Std.)
DESCRIPTION:
URL:https://www.silverberg-gymnasium.de/event/workshop-sicherheit-im-internet-klassen-7b-in-5-6-std/
END:VEVENT
BEGIN:VEVENT
DTSTART;TZID=Europe/Berlin:20250311T141500
DTEND;TZID=Europe/Berlin:20250311T163000
DTSTAMP:20260422T125126
CREATED:20250311T145005Z
LAST-MODIFIED:20250311T152004Z
UID:1201884-1741702500-1741710600@www.silverberg-gymnasium.de
SUMMARY:4. Lehrerkonferenz im SJ 2024-25
DESCRIPTION:
URL:https://www.silverberg-gymnasium.de/event/4-lehrerkonferenz-im-sj-2024-25/
LOCATION:LZ
END:VEVENT
BEGIN:VEVENT
DTSTART;VALUE=DATE:20250312
DTEND;VALUE=DATE:20250313
DTSTAMP:20260422T125126
CREATED:20250312T235004Z
LAST-MODIFIED:20250312T235004Z
UID:1205942-1741737600-1741823999@www.silverberg-gymnasium.de
SUMMARY:Lernstandserhebungen Jgst. 8 in Deutsch  (Vera 8)
DESCRIPTION:
URL:https://www.silverberg-gymnasium.de/event/lernstandserhebungen-jgst-8-in-deutsch-vera-8/
END:VEVENT
BEGIN:VEVENT
DTSTART;TZID=Europe/Berlin:20250312T094500
DTEND;TZID=Europe/Berlin:20250312T112000
DTSTAMP:20260422T125126
CREATED:20250312T095005Z
LAST-MODIFIED:20250312T095005Z
UID:1203935-1741772700-1741778400@www.silverberg-gymnasium.de
SUMMARY:Workshop "Sicherheit im Internet" (Klassen 7c in 3.-4.Std. )
DESCRIPTION:
URL:https://www.silverberg-gymnasium.de/event/workshop-sicherheit-im-internet-klassen-7c-in-3-4-std/
END:VEVENT
BEGIN:VEVENT
DTSTART;TZID=Europe/Berlin:20250312T193000
DTEND;TZID=Europe/Berlin:20250312T210000
DTSTAMP:20260422T125126
CREATED:20250312T185008Z
LAST-MODIFIED:20250312T193511Z
UID:1205284-1741807800-1741813200@www.silverberg-gymnasium.de
SUMMARY:Elterninformationsabend "Sicherheit im Internet" (Jahrgangstufe 5 + 6 )
DESCRIPTION:
URL:https://www.silverberg-gymnasium.de/event/elterninformationsabend-sicherheit-im-internet-jahrgangstufe-5-6/
END:VEVENT
BEGIN:VEVENT
DTSTART;VALUE=DATE:20250314
DTEND;VALUE=DATE:20250315
DTSTAMP:20260422T125126
CREATED:20250314T235003Z
LAST-MODIFIED:20250314T235013Z
UID:1210986-1741910400-1741996799@www.silverberg-gymnasium.de
SUMMARY:Ende des 3. Quartals der Q2.2
DESCRIPTION:
URL:https://www.silverberg-gymnasium.de/event/ende-des-3-quartals-der-q2-2/
END:VEVENT
BEGIN:VEVENT
DTSTART;VALUE=DATE:20250314
DTEND;VALUE=DATE:20250315
DTSTAMP:20260422T125126
CREATED:20250314T235004Z
LAST-MODIFIED:20250314T235013Z
UID:1210987-1741910400-1741996799@www.silverberg-gymnasium.de
SUMMARY:Lernstandserhebungen Jgst. 8 in Englisch  (Vera 8)
DESCRIPTION:
URL:https://www.silverberg-gymnasium.de/event/lernstandserhebungen-jgst-8-in-englisch-vera-8/
END:VEVENT
BEGIN:VEVENT
DTSTART;VALUE=DATE:20250317
DTEND;VALUE=DATE:20250318
DTSTAMP:20260422T125126
CREATED:20250210T113546Z
LAST-MODIFIED:20250210T113546Z
UID:1114216-1742169600-1742255999@www.silverberg-gymnasium.de
SUMMARY:11. oder 12. KW Lernstandserhebungen Jgst. 8 in Deutsch\, Mathematik\,Englisch (Vera 8)
DESCRIPTION:
URL:https://www.silverberg-gymnasium.de/event/11-oder-12-kw-lernstandserhebungen-jgst-8-in-deutsch-mathematikenglisch-vera-8-2/
END:VEVENT
BEGIN:VEVENT
DTSTART;VALUE=DATE:20250317
DTEND;VALUE=DATE:20250318
DTSTAMP:20260422T125126
CREATED:20250317T235008Z
LAST-MODIFIED:20250317T235015Z
UID:1218621-1742169600-1742255999@www.silverberg-gymnasium.de
SUMMARY:Lernstandserhebungen Jgst. 8 in Mathematik  (Vera 8)
DESCRIPTION:
URL:https://www.silverberg-gymnasium.de/event/lernstandserhebungen-jgst-8-in-mathematik-vera-8/
END:VEVENT
BEGIN:VEVENT
DTSTART;VALUE=DATE:20250317
DTEND;VALUE=DATE:20250322
DTSTAMP:20260422T125126
CREATED:20250317T235008Z
LAST-MODIFIED:20250321T235033Z
UID:1218620-1742169600-1742601599@www.silverberg-gymnasium.de
SUMMARY:Gras-Parcour 17.03. - 21.03.2025
DESCRIPTION:
URL:https://www.silverberg-gymnasium.de/event/gras-parcour-17-03-21-03-2025/
LOCATION:Aula\, Eichendorffstraße 1\, Bedburg\, 50181\, Deutschland
END:VEVENT
BEGIN:VEVENT
DTSTART;VALUE=DATE:20250320
DTEND;VALUE=DATE:20250321
DTSTAMP:20260422T125126
CREATED:20250320T233600Z
LAST-MODIFIED:20250320T233600Z
UID:1226350-1742428800-1742515199@www.silverberg-gymnasium.de
SUMMARY:Wege nach dem Abitur (verpflichtend der Jsgt. Q2) -verschoben; neuer Termin 27.03.2025 !
DESCRIPTION:
URL:https://www.silverberg-gymnasium.de/event/wege-nach-dem-abitur-verpflichtend-der-jsgt-q2-verschoben-neuer-termin-27-03-2025/
END:VEVENT
BEGIN:VEVENT
DTSTART;VALUE=DATE:20250320
DTEND;VALUE=DATE:20250321
DTSTAMP:20260422T125126
CREATED:20250320T233603Z
LAST-MODIFIED:20250320T233603Z
UID:1226352-1742428800-1742515199@www.silverberg-gymnasium.de
SUMMARY:Känguru-Wettbewerb der Mathematik (ab Klasse 5)
DESCRIPTION:
URL:https://www.silverberg-gymnasium.de/event/kaenguru-wettbewerb-der-mathematik-ab-klasse-5-2/
END:VEVENT
BEGIN:VEVENT
DTSTART;TZID=Europe/Berlin:20250320T193000
DTEND;TZID=Europe/Berlin:20250320T210000
DTSTAMP:20260422T125126
CREATED:20250320T193555Z
LAST-MODIFIED:20250320T193555Z
UID:1225744-1742499000-1742504400@www.silverberg-gymnasium.de
SUMMARY:3. Schulpflegschaftssitzung im SJ 2024-25
DESCRIPTION:
URL:https://www.silverberg-gymnasium.de/event/3-schulpflegschaftssitzung-im-sj-2024-25/
LOCATION:PZ\, Eichendorffstraße 1\, Bedburg\, 50181\, Deutschland
END:VEVENT
BEGIN:VEVENT
DTSTART;VALUE=DATE:20250321
DTEND;VALUE=DATE:20250330
DTSTAMP:20260422T125126
CREATED:20250321T235036Z
LAST-MODIFIED:20250329T233514Z
UID:1228893-1742515200-1743292799@www.silverberg-gymnasium.de
SUMMARY:Erasmus+ - Internationales Treffen in Madrid bis 29.03.2025
DESCRIPTION:
URL:https://www.silverberg-gymnasium.de/event/erasmus-internationales-treffen-in-madrid-bis-29-03-2025/
END:VEVENT
BEGIN:VEVENT
DTSTART;TZID=Europe/Berlin:20250322T080000
DTEND;TZID=Europe/Berlin:20250322T133000
DTSTAMP:20260422T125126
CREATED:20250322T115025Z
LAST-MODIFIED:20250322T122029Z
UID:1229778-1742630400-1742650200@www.silverberg-gymnasium.de
SUMMARY:Schriftliche Cambridge-Prüfungen bis 13:30 Uhr
DESCRIPTION:
URL:https://www.silverberg-gymnasium.de/event/schriftliche-cambridge-pruefungen-bis-1330-uhr/
LOCATION:E-Trakt
END:VEVENT
BEGIN:VEVENT
DTSTART;TZID=Europe/Berlin:20250324T094500
DTEND;TZID=Europe/Berlin:20250324T112000
DTSTAMP:20260422T125126
CREATED:20250324T095018Z
LAST-MODIFIED:20250324T095018Z
UID:1234565-1742809500-1742815200@www.silverberg-gymnasium.de
SUMMARY:upDATE: R@usgemobbt 2.0 - Präventionstheater für Jgst. 6 + 7
DESCRIPTION:
URL:https://www.silverberg-gymnasium.de/event/update-rusgemobbt-2-0-praeventionstheater-fuer-jgst-6-7/
LOCATION:Aula\, Eichendorffstraße 1\, Bedburg\, 50181\, Deutschland
END:VEVENT
BEGIN:VEVENT
DTSTART;TZID=Europe/Berlin:20250326T183000
DTEND;TZID=Europe/Berlin:20250326T200000
DTSTAMP:20260422T125126
CREATED:20250326T175026Z
LAST-MODIFIED:20250326T182023Z
UID:1239862-1743013800-1743019200@www.silverberg-gymnasium.de
SUMMARY:MV Förderverein\, nur Vorstandsitzung
DESCRIPTION:Join with Google Meet: https://meet.google.com/znu-ysjk-ygy\nLearn more about Meet at: https://support.google.com/a/users/answer/9282720
URL:https://www.silverberg-gymnasium.de/event/mv-foerderverein-nur-vorstandsitzung/
LOCATION:SLZ
END:VEVENT
BEGIN:VEVENT
DTSTART;TZID=Europe/Berlin:20250327T094500
DTEND;TZID=Europe/Berlin:20250327T112000
DTSTAMP:20260422T125126
CREATED:20250327T095024Z
LAST-MODIFIED:20250327T095024Z
UID:1241133-1743068700-1743074400@www.silverberg-gymnasium.de
SUMMARY:Wege nach dem Abitur (verpflichtend für Jgst. Q2)
DESCRIPTION:
URL:https://www.silverberg-gymnasium.de/event/wege-nach-dem-abitur-verpflichtend-fuer-jgst-q2/
END:VEVENT
BEGIN:VEVENT
DTSTART;TZID=Europe/Berlin:20250327T180000
DTEND;TZID=Europe/Berlin:20250327T200000
DTSTAMP:20260422T125126
CREATED:20250327T185016Z
LAST-MODIFIED:20250327T185023Z
UID:1242109-1743098400-1743105600@www.silverberg-gymnasium.de
SUMMARY:Elterninformationsabend zu Wahl WP II (Differenzierung Jgst.8)
DESCRIPTION:
URL:https://www.silverberg-gymnasium.de/event/elterninformationsabend-zu-wahl-wp-ii-differenzierung-jgst-8-2/
LOCATION:Aula\, Eichendorffstraße 1\, Bedburg\, 50181\, Deutschland
END:VEVENT
BEGIN:VEVENT
DTSTART;VALUE=DATE:20250328
DTEND;VALUE=DATE:20250329
DTSTAMP:20260422T125126
CREATED:20250328T233548Z
LAST-MODIFIED:20250328T233548Z
UID:1244850-1743120000-1743206399@www.silverberg-gymnasium.de
SUMMARY:Xanten-Fahrt der gesamten Jgst. 06
DESCRIPTION:
URL:https://www.silverberg-gymnasium.de/event/xanten-fahrt-der-gesamten-jgst-06/
END:VEVENT
END:VCALENDAR