BEGIN:VCALENDAR
VERSION:2.0
PRODID:-//Silverberg-Gymnasium Bedburg - ECPv6.15.20//NONSGML v1.0//EN
CALSCALE:GREGORIAN
METHOD:PUBLISH
X-ORIGINAL-URL:https://www.silverberg-gymnasium.de
X-WR-CALDESC:Veranstaltungen für Silverberg-Gymnasium Bedburg
REFRESH-INTERVAL;VALUE=DURATION:PT1H
X-Robots-Tag:noindex
X-PUBLISHED-TTL:PT1H
BEGIN:VTIMEZONE
TZID:Europe/Berlin
BEGIN:DAYLIGHT
TZOFFSETFROM:+0100
TZOFFSETTO:+0200
TZNAME:CEST
DTSTART:20240331T010000
END:DAYLIGHT
BEGIN:STANDARD
TZOFFSETFROM:+0200
TZOFFSETTO:+0100
TZNAME:CET
DTSTART:20241027T010000
END:STANDARD
BEGIN:DAYLIGHT
TZOFFSETFROM:+0100
TZOFFSETTO:+0200
TZNAME:CEST
DTSTART:20250330T010000
END:DAYLIGHT
BEGIN:STANDARD
TZOFFSETFROM:+0200
TZOFFSETTO:+0100
TZNAME:CET
DTSTART:20251026T010000
END:STANDARD
BEGIN:DAYLIGHT
TZOFFSETFROM:+0100
TZOFFSETTO:+0200
TZNAME:CEST
DTSTART:20260329T010000
END:DAYLIGHT
BEGIN:STANDARD
TZOFFSETFROM:+0200
TZOFFSETTO:+0100
TZNAME:CET
DTSTART:20261025T010000
END:STANDARD
END:VTIMEZONE
BEGIN:VEVENT
DTSTART;VALUE=DATE:20250501
DTEND;VALUE=DATE:20250502
DTSTAMP:20260422T094517
CREATED:20250424T225021Z
LAST-MODIFIED:20250424T225025Z
UID:1296566-1746057600-1746143999@www.silverberg-gymnasium.de
SUMMARY:Tag der Arbeit - unterrichtsfrei -
DESCRIPTION:
URL:https://www.silverberg-gymnasium.de/event/tag-der-arbeit-unterrichtsfrei/
END:VEVENT
BEGIN:VEVENT
DTSTART;TZID=Europe/Berlin:20250502T113000
DTEND;TZID=Europe/Berlin:20250502T150000
DTSTAMP:20260422T094517
CREATED:20250424T225022Z
LAST-MODIFIED:20250424T225026Z
UID:1296569-1746185400-1746198000@www.silverberg-gymnasium.de
SUMMARY:LuL-Ausflug - unterrichtsfrei nach der 4.Std.
DESCRIPTION:
URL:https://www.silverberg-gymnasium.de/event/lul-ausflug-unterrichtsfrei-nach-der-4-std/
END:VEVENT
BEGIN:VEVENT
DTSTART;TZID=Europe/Berlin:20250506T141500
DTEND;TZID=Europe/Berlin:20250506T154500
DTSTAMP:20260422T094517
CREATED:20250424T225022Z
LAST-MODIFIED:20250424T225026Z
UID:1296570-1746540900-1746546300@www.silverberg-gymnasium.de
SUMMARY:3. Erprobungsstufenkonferenz Jgst. 6
DESCRIPTION:
URL:https://www.silverberg-gymnasium.de/event/3-erprobungsstufenkonferenz-jgst-6-2/
END:VEVENT
BEGIN:VEVENT
DTSTART;TZID=Europe/Berlin:20250506T190000
DTEND;TZID=Europe/Berlin:20250506T203000
DTSTAMP:20260422T094517
CREATED:20250424T225022Z
LAST-MODIFIED:20250424T225026Z
UID:1296571-1746558000-1746563400@www.silverberg-gymnasium.de
SUMMARY:3.Sitzung Schulentwicklungsgruppe\, Gro
DESCRIPTION:
URL:https://www.silverberg-gymnasium.de/event/3-sitzung-schulentwicklungsgruppe-gro/
END:VEVENT
BEGIN:VEVENT
DTSTART;VALUE=DATE:20250509
DTEND;VALUE=DATE:20250510
DTSTAMP:20260422T094517
CREATED:20250424T225022Z
LAST-MODIFIED:20250424T225026Z
UID:1296572-1746748800-1746835199@www.silverberg-gymnasium.de
SUMMARY:Distanzlerntag\, Unterricht findet ausschließlich online statt!
DESCRIPTION:
URL:https://www.silverberg-gymnasium.de/event/distanzlerntag-unterricht-findet-ausschliesslich-online-statt/
END:VEVENT
BEGIN:VEVENT
DTSTART;TZID=Europe/Berlin:20250509T143000
DTEND;TZID=Europe/Berlin:20250509T183000
DTSTAMP:20260422T094517
CREATED:20250424T225022Z
LAST-MODIFIED:20250424T225026Z
UID:1296573-1746801000-1746815400@www.silverberg-gymnasium.de
SUMMARY:2. Elternsprechtag  im SJ 2024-25 bis 18.30 Uhr
DESCRIPTION:
URL:https://www.silverberg-gymnasium.de/event/2-elternsprechtag-im-sj-2024-25-bis-18-30-uhr/
END:VEVENT
BEGIN:VEVENT
DTSTART;TZID=Europe/Berlin:20250517T100000
DTEND;TZID=Europe/Berlin:20250517T130000
DTSTAMP:20260422T094517
CREATED:20250424T225022Z
LAST-MODIFIED:20250424T225026Z
UID:1296574-1747476000-1747486800@www.silverberg-gymnasium.de
SUMMARY:Delf scolaire: schriftliche Prüfung
DESCRIPTION:
URL:https://www.silverberg-gymnasium.de/event/delf-scolaire-schriftliche-pruefung-2/
LOCATION:Raum E05
END:VEVENT
BEGIN:VEVENT
DTSTART;TZID=Europe/Berlin:20250519T094500
DTEND;TZID=Europe/Berlin:20250519T112000
DTSTAMP:20260422T094517
CREATED:20250424T225022Z
LAST-MODIFIED:20250424T225026Z
UID:1296575-1747647900-1747653600@www.silverberg-gymnasium.de
SUMMARY:Vortrag: Hybrider Krieg in Europa ? (Diff-Kurs European Studies Jgst. 10)
DESCRIPTION:
URL:https://www.silverberg-gymnasium.de/event/vortrag-hybrider-krieg-in-europa-diff-kurs-european-studies-jgst-10/
LOCATION:Aula\, Eichendorffstraße 1\, Bedburg\, 50181\, Deutschland
END:VEVENT
BEGIN:VEVENT
DTSTART;TZID=Europe/Berlin:20250520T141500
DTEND;TZID=Europe/Berlin:20250520T160000
DTSTAMP:20260422T094517
CREATED:20250424T225022Z
LAST-MODIFIED:20250424T225026Z
UID:1296576-1747750500-1747756800@www.silverberg-gymnasium.de
SUMMARY:5. Lehrerkonferenz; DIGITAL\,  Dienstbesprechung Abitur II (MüP)
DESCRIPTION:
URL:https://www.silverberg-gymnasium.de/event/5-lehrerkonferenz-digital-dienstbesprechung-abitur-ii-muep/
END:VEVENT
BEGIN:VEVENT
DTSTART;TZID=Europe/Berlin:20250523T183000
DTEND;TZID=Europe/Berlin:20250524T093000
DTSTAMP:20260422T094517
CREATED:20250523T225022Z
LAST-MODIFIED:20250524T070607Z
UID:1297746-1748025000-1748079000@www.silverberg-gymnasium.de
SUMMARY:"5er Nacht"  Übernachtung der Klassen 5 in der Schule
DESCRIPTION:
URL:https://www.silverberg-gymnasium.de/event/5er-nacht-uebernachtung-der-klassen-5-in-der-schule-3/
END:VEVENT
BEGIN:VEVENT
DTSTART;VALUE=DATE:20250526
DTEND;VALUE=DATE:20250527
DTSTAMP:20260422T094517
CREATED:20250526T225846Z
LAST-MODIFIED:20250527T044343Z
UID:1302232-1748217600-1748303999@www.silverberg-gymnasium.de
SUMMARY:Europatag  (Teilnehmer der Jgst. 9 )
DESCRIPTION:
URL:https://www.silverberg-gymnasium.de/event/europatag-teilnehmer-der-jgst-9/
END:VEVENT
BEGIN:VEVENT
DTSTART;VALUE=DATE:20250527
DTEND;VALUE=DATE:20250528
DTSTAMP:20260422T094517
CREATED:20250527T225827Z
LAST-MODIFIED:20250528T044343Z
UID:1303850-1748304000-1748390399@www.silverberg-gymnasium.de
SUMMARY:ZP10 Deutsch
DESCRIPTION:
URL:https://www.silverberg-gymnasium.de/event/zp10-deutsch/
END:VEVENT
BEGIN:VEVENT
DTSTART;TZID=Europe/Berlin:20250527T193000
DTEND;TZID=Europe/Berlin:20250527T210000
DTSTAMP:20260422T094517
CREATED:20250527T185828Z
LAST-MODIFIED:20250527T185828Z
UID:1303504-1748374200-1748379600@www.silverberg-gymnasium.de
SUMMARY:4. Schulpflegschaftssitzung im SJ 2024-25
DESCRIPTION:
URL:https://www.silverberg-gymnasium.de/event/4-schulpflegschaftssitzung-im-sj-2024-25/
LOCATION:Aula\, Eichendorffstraße 1\, Bedburg\, 50181\, Deutschland
END:VEVENT
BEGIN:VEVENT
DTSTART;TZID=Europe/Berlin:20250527T193000
DTEND;TZID=Europe/Berlin:20250527T210000
DTSTAMP:20260422T094517
CREATED:20250527T185828Z
LAST-MODIFIED:20250527T185840Z
UID:1303503-1748374200-1748379600@www.silverberg-gymnasium.de
SUMMARY:4. Schulpflegschaftssitzung im SJ 2024-25
DESCRIPTION:
URL:https://www.silverberg-gymnasium.de/event/4-schulpflegschaftssitzung-im-sj-2024-25-2/
LOCATION:Aula\, Eichendorffstraße 1\, Bedburg\, 50181\, Deutschland
END:VEVENT
BEGIN:VEVENT
DTSTART;VALUE=DATE:20250529
DTEND;VALUE=DATE:20250530
DTSTAMP:20260422T094517
CREATED:20250529T225924Z
LAST-MODIFIED:20250530T042841Z
UID:1306807-1748476800-1748563199@www.silverberg-gymnasium.de
SUMMARY:Christi Himmelfahrt
DESCRIPTION:
URL:https://www.silverberg-gymnasium.de/event/christi-himmelfahrt/
END:VEVENT
BEGIN:VEVENT
DTSTART;VALUE=DATE:20250530
DTEND;VALUE=DATE:20250531
DTSTAMP:20260422T094517
CREATED:20250530T214328Z
LAST-MODIFIED:20250531T042835Z
UID:1308047-1748563200-1748649599@www.silverberg-gymnasium.de
SUMMARY:4.bewegl. Ferientag - unterrichtsfrei -
DESCRIPTION:
URL:https://www.silverberg-gymnasium.de/event/4-bewegl-ferientag-unterrichtsfrei/
END:VEVENT
END:VCALENDAR