BEGIN:VCALENDAR
VERSION:2.0
PRODID:-//Silverberg-Gymnasium Bedburg - ECPv6.15.20//NONSGML v1.0//EN
CALSCALE:GREGORIAN
METHOD:PUBLISH
X-ORIGINAL-URL:https://www.silverberg-gymnasium.de
X-WR-CALDESC:Veranstaltungen für Silverberg-Gymnasium Bedburg
REFRESH-INTERVAL;VALUE=DURATION:PT1H
X-Robots-Tag:noindex
X-PUBLISHED-TTL:PT1H
BEGIN:VTIMEZONE
TZID:Europe/Berlin
BEGIN:DAYLIGHT
TZOFFSETFROM:+0100
TZOFFSETTO:+0200
TZNAME:CEST
DTSTART:20240331T010000
END:DAYLIGHT
BEGIN:STANDARD
TZOFFSETFROM:+0200
TZOFFSETTO:+0100
TZNAME:CET
DTSTART:20241027T010000
END:STANDARD
BEGIN:DAYLIGHT
TZOFFSETFROM:+0100
TZOFFSETTO:+0200
TZNAME:CEST
DTSTART:20250330T010000
END:DAYLIGHT
BEGIN:STANDARD
TZOFFSETFROM:+0200
TZOFFSETTO:+0100
TZNAME:CET
DTSTART:20251026T010000
END:STANDARD
BEGIN:DAYLIGHT
TZOFFSETFROM:+0100
TZOFFSETTO:+0200
TZNAME:CEST
DTSTART:20260329T010000
END:DAYLIGHT
BEGIN:STANDARD
TZOFFSETFROM:+0200
TZOFFSETTO:+0100
TZNAME:CET
DTSTART:20261025T010000
END:STANDARD
END:VTIMEZONE
BEGIN:VEVENT
DTSTART;VALUE=DATE:20250901
DTEND;VALUE=DATE:20250911
DTSTAMP:20260422T022247
CREATED:20250908T074829Z
LAST-MODIFIED:20250911T042110Z
UID:1327181-1756684800-1757548799@www.silverberg-gymnasium.de
SUMMARY:Wahlen in den Klassen/Kursen/Jahrgangsstufen
DESCRIPTION:
URL:https://www.silverberg-gymnasium.de/event/wahlen-in-den-klassen-kursen-jahrgangsstufen-bis-zum-10-09-2025/
END:VEVENT
BEGIN:VEVENT
DTSTART;VALUE=DATE:20250903
DTEND;VALUE=DATE:20250911
DTSTAMP:20260422T022247
CREATED:20250908T074829Z
LAST-MODIFIED:20250911T042110Z
UID:1327179-1756857600-1757548799@www.silverberg-gymnasium.de
SUMMARY:Polnisch-deutscher Schülertausch
DESCRIPTION:
URL:https://www.silverberg-gymnasium.de/event/polnisch-deutscher-schuelertausch-vom-03-09-12-09-2025/
END:VEVENT
BEGIN:VEVENT
DTSTART;TZID=Europe/Berlin:20250910T190000
DTEND;TZID=Europe/Berlin:20250910T210000
DTSTAMP:20260422T022247
CREATED:20250910T175039Z
LAST-MODIFIED:20250910T182033Z
UID:1334009-1757530800-1757538000@www.silverberg-gymnasium.de
SUMMARY:Klassenpflegschafts-/Jahrgangsstufensitzungen der 7.Klassen (Klassenraum)
DESCRIPTION:
URL:https://www.silverberg-gymnasium.de/event/klassenpflegschafts-jahrgangsstufensitzungen-der-7-klassen-klassenraum-2/
LOCATION:Klassenräume
END:VEVENT
BEGIN:VEVENT
DTSTART;TZID=Europe/Berlin:20250910T190000
DTEND;TZID=Europe/Berlin:20250910T210000
DTSTAMP:20260422T022247
CREATED:20250910T175040Z
LAST-MODIFIED:20250910T182033Z
UID:1334010-1757530800-1757538000@www.silverberg-gymnasium.de
SUMMARY:Klassenpflegschafts-/Jahrgangsstufensitzungen der EF (Aula )
DESCRIPTION:
URL:https://www.silverberg-gymnasium.de/event/klassenpflegschafts-jahrgangsstufensitzungen-der-ef-aula-2/
LOCATION:Aula\, Eichendorffstraße 1\, Bedburg\, 50181\, Deutschland
END:VEVENT
BEGIN:VEVENT
DTSTART;TZID=Europe/Berlin:20250911T183000
DTEND;TZID=Europe/Berlin:20250911T210000
DTSTAMP:20260422T022247
CREATED:20250911T183604Z
LAST-MODIFIED:20250911T183613Z
UID:1336632-1757615400-1757624400@www.silverberg-gymnasium.de
SUMMARY:Klassenpflegschafts-/Jahrgangsstufensitzungen der 10. Klassen ( ab 19.00 Uhr im Klassenraum)
DESCRIPTION:
URL:https://www.silverberg-gymnasium.de/event/klassenpflegschafts-jahrgangsstufensitzungen-der-10-klassen-ab-19-00-uhr-im-klassenraum-2/
LOCATION:Aula\, Eichendorffstraße 1\, Bedburg\, 50181\, Deutschland
END:VEVENT
BEGIN:VEVENT
DTSTART;TZID=Europe/Berlin:20250911T190000
DTEND;TZID=Europe/Berlin:20250911T210000
DTSTAMP:20260422T022247
CREATED:20250911T183604Z
LAST-MODIFIED:20250911T183613Z
UID:1336631-1757617200-1757624400@www.silverberg-gymnasium.de
SUMMARY:Klassenpflegschafts-/Jahrgangsstufensitzungen der 6. Klassen (Klassenraum)
DESCRIPTION:
URL:https://www.silverberg-gymnasium.de/event/klassenpflegschafts-jahrgangsstufensitzungen-der-6-klassen-klassenraum-2/
LOCATION:Klassenräume
END:VEVENT
BEGIN:VEVENT
DTSTART;VALUE=DATE:20250913
DTEND;VALUE=DATE:20250914
DTSTAMP:20260422T022247
CREATED:20250913T215615Z
LAST-MODIFIED:20250914T042551Z
UID:1342809-1757721600-1757807999@www.silverberg-gymnasium.de
SUMMARY:Ausdauersporttag
DESCRIPTION:
URL:https://www.silverberg-gymnasium.de/event/ausdauersporttag/
END:VEVENT
BEGIN:VEVENT
DTSTART;TZID=Europe/Berlin:20250915T183000
DTEND;TZID=Europe/Berlin:20250915T210000
DTSTAMP:20260422T022247
CREATED:20250915T184043Z
LAST-MODIFIED:20250915T184043Z
UID:1347370-1757961000-1757970000@www.silverberg-gymnasium.de
SUMMARY:Klassenpflegschafts-/Jahrgangsstufensitzungen der 8. Klassen (ab 19.00 Uhr im Klassenraum)
DESCRIPTION:
URL:https://www.silverberg-gymnasium.de/event/klassenpflegschafts-jahrgangsstufensitzungen-der-8-klassen-ab-19-00-uhr-im-klassenraum-2/
LOCATION:Aula\, Eichendorffstraße 1\, Bedburg\, 50181\, Deutschland
END:VEVENT
BEGIN:VEVENT
DTSTART;TZID=Europe/Berlin:20250915T193000
DTEND;TZID=Europe/Berlin:20250915T210000
DTSTAMP:20260422T022247
CREATED:20250915T184042Z
LAST-MODIFIED:20250915T184042Z
UID:1347369-1757964600-1757970000@www.silverberg-gymnasium.de
SUMMARY:Klassenpflegschafts-/Jahrgangsstufensitzungen der Q1 ( Aula )
DESCRIPTION:
URL:https://www.silverberg-gymnasium.de/event/klassenpflegschafts-jahrgangsstufensitzungen-der-q1-aula/
LOCATION:Aula\, Eichendorffstraße 1\, Bedburg\, 50181\, Deutschland
END:VEVENT
BEGIN:VEVENT
DTSTART;TZID=Europe/Berlin:20250916T183000
DTEND;TZID=Europe/Berlin:20250916T210000
DTSTAMP:20260422T022247
CREATED:20250916T175543Z
LAST-MODIFIED:20250916T184052Z
UID:1349872-1758047400-1758056400@www.silverberg-gymnasium.de
SUMMARY:Klassenpflegschaftssitzungen 5.Klassen zunächst in der Aula\, anschl. Klassenraum
DESCRIPTION:
URL:https://www.silverberg-gymnasium.de/event/klassenpflegschaftssitzungen-5-klassen-zunaechst-in-der-aula-anschl-klassenraum-2/
LOCATION:Aula\, Eichendorffstraße 1\, Bedburg\, 50181\, Deutschland
END:VEVENT
BEGIN:VEVENT
DTSTART;TZID=Europe/Berlin:20250916T190000
DTEND;TZID=Europe/Berlin:20250916T210000
DTSTAMP:20260422T022247
CREATED:20250916T175542Z
LAST-MODIFIED:20250916T184052Z
UID:1349871-1758049200-1758056400@www.silverberg-gymnasium.de
SUMMARY:Klassenpflegschafts-/Jahrgangsstufensitzungen der 9.Klassen (Klassenraum)
DESCRIPTION:
URL:https://www.silverberg-gymnasium.de/event/klassenpflegschafts-jahrgangsstufensitzungen-der-9-klassen-klassenraum-2/
LOCATION:Klassenräume
END:VEVENT
BEGIN:VEVENT
DTSTART;VALUE=DATE:20250918
DTEND;VALUE=DATE:20250919
DTSTAMP:20260422T022247
CREATED:20250918T224058Z
LAST-MODIFIED:20250918T224107Z
UID:1355872-1758153600-1758239999@www.silverberg-gymnasium.de
SUMMARY:Fahrradkontrolle Klasse 6 bis 10
DESCRIPTION:
URL:https://www.silverberg-gymnasium.de/event/fahrradkontrolle-klasse-6-bis-10/
END:VEVENT
BEGIN:VEVENT
DTSTART;TZID=Europe/Berlin:20250918T074500
DTEND;TZID=Europe/Berlin:20250918T131500
DTSTAMP:20260422T022247
CREATED:20250918T104050Z
LAST-MODIFIED:20250918T104057Z
UID:1354240-1758181500-1758201300@www.silverberg-gymnasium.de
SUMMARY:Hausinterne "Berufe Messe" für die Jahrgangsstufe Q1
DESCRIPTION:
URL:https://www.silverberg-gymnasium.de/event/hausinterne-berufe-messe-fuer-die-jahrgangsstufe-q1/
LOCATION:Aula / PZ / SLZ/  A21 / B08
END:VEVENT
BEGIN:VEVENT
DTSTART;TZID=Europe/Berlin:20250919T080000
DTEND;TZID=Europe/Berlin:20250919T180000
DTSTAMP:20260422T022247
CREATED:20250919T154110Z
LAST-MODIFIED:20250919T154119Z
UID:1357206-1758268800-1758304800@www.silverberg-gymnasium.de
SUMMARY:Bonner Mathematikturnier (ab EF)
DESCRIPTION:
URL:https://www.silverberg-gymnasium.de/event/bonner-mathematikturnier-ab-ef/
LOCATION:Bonn
END:VEVENT
BEGIN:VEVENT
DTSTART;TZID=Europe/Berlin:20250923T183000
DTEND;TZID=Europe/Berlin:20250923T210000
DTSTAMP:20260422T022247
CREATED:20250923T184502Z
LAST-MODIFIED:20250923T184510Z
UID:1366639-1758652200-1758661200@www.silverberg-gymnasium.de
SUMMARY:Eltern-Informationsabend zur Romfahrt (Kl.10a\, 10d\,10e)
DESCRIPTION:
URL:https://www.silverberg-gymnasium.de/event/eltern-informationsabend-zur-romfahrt-kl-10a-10d10e/
LOCATION:B08\, Eichendorffstraße 1\, Bedburg\, Deutschland
END:VEVENT
BEGIN:VEVENT
DTSTART;TZID=Europe/Berlin:20250924T074500
DTEND;TZID=Europe/Berlin:20250924T122500
DTSTAMP:20260422T022247
CREATED:20250924T095946Z
LAST-MODIFIED:20250924T095954Z
UID:1368191-1758699900-1758716700@www.silverberg-gymnasium.de
SUMMARY:Besuch der Ausbildungsbörse im MEDIO im 10. Jahrgang
DESCRIPTION:
URL:https://www.silverberg-gymnasium.de/event/besuch-der-ausbildungsboerse-im-medio-im-10-jahrgang/
LOCATION:Bergheim
END:VEVENT
BEGIN:VEVENT
DTSTART;VALUE=DATE:20250929
DTEND;VALUE=DATE:20251003
DTSTAMP:20260422T022247
CREATED:20250929T225958Z
LAST-MODIFIED:20251003T044456Z
UID:1381772-1759104000-1759449599@www.silverberg-gymnasium.de
SUMMARY:Klassenfahrt der Klassen 8 nach Leutersdorf v. 29.09. - 02.10.2025
DESCRIPTION:
URL:https://www.silverberg-gymnasium.de/event/klassenfahrt-der-klassen-8-nach-leutersdorf-v-29-09-02-10-2025/
END:VEVENT
BEGIN:VEVENT
DTSTART;TZID=Europe/Berlin:20250929T193000
DTEND;TZID=Europe/Berlin:20250929T210000
DTSTAMP:20260422T022247
CREATED:20250929T185946Z
LAST-MODIFIED:20250929T185946Z
UID:1381218-1759174200-1759179600@www.silverberg-gymnasium.de
SUMMARY:1.Schulpflegschaftssitzung im SJ 2025-26
DESCRIPTION:
URL:https://www.silverberg-gymnasium.de/event/1-schulpflegschaftssitzung-im-sj-2025-26/
LOCATION:Aula\, Eichendorffstraße 1\, Bedburg\, 50181\, Deutschland
END:VEVENT
END:VCALENDAR