BEGIN:VCALENDAR
VERSION:2.0
PRODID:-//Silverberg-Gymnasium Bedburg - ECPv6.15.20//NONSGML v1.0//EN
CALSCALE:GREGORIAN
METHOD:PUBLISH
X-ORIGINAL-URL:https://www.silverberg-gymnasium.de
X-WR-CALDESC:Veranstaltungen für Silverberg-Gymnasium Bedburg
REFRESH-INTERVAL;VALUE=DURATION:PT1H
X-Robots-Tag:noindex
X-PUBLISHED-TTL:PT1H
BEGIN:VTIMEZONE
TZID:Europe/Berlin
BEGIN:DAYLIGHT
TZOFFSETFROM:+0100
TZOFFSETTO:+0200
TZNAME:CEST
DTSTART:20250330T010000
END:DAYLIGHT
BEGIN:STANDARD
TZOFFSETFROM:+0200
TZOFFSETTO:+0100
TZNAME:CET
DTSTART:20251026T010000
END:STANDARD
BEGIN:DAYLIGHT
TZOFFSETFROM:+0100
TZOFFSETTO:+0200
TZNAME:CEST
DTSTART:20260329T010000
END:DAYLIGHT
BEGIN:STANDARD
TZOFFSETFROM:+0200
TZOFFSETTO:+0100
TZNAME:CET
DTSTART:20261025T010000
END:STANDARD
BEGIN:DAYLIGHT
TZOFFSETFROM:+0100
TZOFFSETTO:+0200
TZNAME:CEST
DTSTART:20270328T010000
END:DAYLIGHT
BEGIN:STANDARD
TZOFFSETFROM:+0200
TZOFFSETTO:+0100
TZNAME:CET
DTSTART:20271031T010000
END:STANDARD
END:VTIMEZONE
BEGIN:VEVENT
DTSTART;VALUE=DATE:20260202
DTEND;VALUE=DATE:20260203
DTSTAMP:20260421T174728
CREATED:20260202T223108Z
LAST-MODIFIED:20260202T231811Z
UID:1608013-1769990400-1770076799@www.silverberg-gymnasium.de
SUMMARY:Zeugniskonferenzen für die Jgst. 5 - Q1  und  2. Beobachtungskonferenz (5-6)    - unterrichtsfrei -
DESCRIPTION:
URL:https://www.silverberg-gymnasium.de/event/zeugniskonferenzen-fuer-die-jgst-5-q1-und-2-beobachtungskonferenz-5-6-unterrichtsfrei/
END:VEVENT
BEGIN:VEVENT
DTSTART;VALUE=DATE:20260202
DTEND;VALUE=DATE:20260203
DTSTAMP:20260421T174728
CREATED:20260202T223109Z
LAST-MODIFIED:20260202T231811Z
UID:1608014-1769990400-1770076799@www.silverberg-gymnasium.de
SUMMARY:1. Berufsfelderkundung in Jgst. 9.
DESCRIPTION:
URL:https://www.silverberg-gymnasium.de/event/1-berufsfelderkundung-in-jgst-9/
END:VEVENT
BEGIN:VEVENT
DTSTART;VALUE=DATE:20260202
DTEND;VALUE=DATE:20260205
DTSTAMP:20260421T174728
CREATED:20260202T223110Z
LAST-MODIFIED:20260204T233130Z
UID:1608015-1769990400-1770249599@www.silverberg-gymnasium.de
SUMMARY:(dreitägiges) Sozialpraktikum Jgst.10
DESCRIPTION:
URL:https://www.silverberg-gymnasium.de/event/dreitaegiges-sozialpraktikum-jgst-10/
END:VEVENT
BEGIN:VEVENT
DTSTART;TZID=Europe/Berlin:20260206T104500
DTEND;TZID=Europe/Berlin:20260206T134500
DTSTAMP:20260421T174728
CREATED:20260206T123108Z
LAST-MODIFIED:20260206T123108Z
UID:1617607-1770374700-1770385500@www.silverberg-gymnasium.de
SUMMARY:Schachturnier
DESCRIPTION:
URL:https://www.silverberg-gymnasium.de/event/schachturnier/
LOCATION:Mensa\, Eichendorffstraße 1\, Bedburg\, 50181\, Deutschland
END:VEVENT
BEGIN:VEVENT
DTSTART;TZID=Europe/Berlin:20260208T211500
DTEND;TZID=Europe/Berlin:20260208T224500
DTSTAMP:20260421T174728
CREATED:20260203T083140Z
LAST-MODIFIED:20260203T083140Z
UID:1608366-1770585300-1770590700@www.silverberg-gymnasium.de
SUMMARY:Entfällt ! Elterninformationsabend "Sicherheit im Internet" (Jahrgangstufe 5 + 7 )
DESCRIPTION:
URL:https://www.silverberg-gymnasium.de/event/entfaellt-elterninformationsabend-sicherheit-im-internet-jahrgangstufe-5-7/
LOCATION:Aula\, Eichendorffstraße 1\, Bedburg\, 50181\, Deutschland
END:VEVENT
BEGIN:VEVENT
DTSTART;VALUE=DATE:20260209
DTEND;VALUE=DATE:20260210
DTSTAMP:20260421T174728
CREATED:20260208T154602Z
LAST-MODIFIED:20260208T154602Z
UID:1624195-1770595200-1770681599@www.silverberg-gymnasium.de
SUMMARY:1. Tag des 2. Schulhalbjahres  2025-26
DESCRIPTION:
URL:https://www.silverberg-gymnasium.de/event/1-tag-des-2-schulhalbjahres-2025-26/
END:VEVENT
BEGIN:VEVENT
DTSTART;TZID=Europe/Berlin:20260210T140000
DTEND;TZID=Europe/Berlin:20260210T154500
DTSTAMP:20260421T174728
CREATED:20260208T154603Z
LAST-MODIFIED:20260208T154603Z
UID:1624196-1770732000-1770738300@www.silverberg-gymnasium.de
SUMMARY:Elternsprechtag für Fördergespräche Sek I (Terminvergabe über LuL)
DESCRIPTION:
URL:https://www.silverberg-gymnasium.de/event/elternsprechtag-fuer-foerdergespraeche-sek-i-terminvergabe-ueber-lul-2/
END:VEVENT
BEGIN:VEVENT
DTSTART;TZID=Europe/Berlin:20260212T090000
DTEND;TZID=Europe/Berlin:20260212T122500
DTSTAMP:20260421T174728
CREATED:20260208T154604Z
LAST-MODIFIED:20260208T154604Z
UID:1624197-1770886800-1770899100@www.silverberg-gymnasium.de
SUMMARY:Karnevalssitzung für die Jgst. 5 + 6  bis 12.00 Uhr;   Achtung: Keine Übermittagsbetreuung!    - unterrichtsfrei nach der 5.Stunde
DESCRIPTION:
URL:https://www.silverberg-gymnasium.de/event/karnevalssitzung-fuer-die-jgst-5-6-bis-12-00-uhr-achtung-keine-uebermittagsbetreuung-unterrichtsfrei-nach-der-5-stunde-2/
LOCATION:Aula\, Eichendorffstraße 1\, Bedburg\, 50181\, Deutschland
END:VEVENT
BEGIN:VEVENT
DTSTART;VALUE=DATE:20260213
DTEND;VALUE=DATE:20260214
DTSTAMP:20260421T174728
CREATED:20260208T154605Z
LAST-MODIFIED:20260208T154605Z
UID:1624198-1770940800-1771027199@www.silverberg-gymnasium.de
SUMMARY:Karneval: 1. beweglicher Ferientag - unterrichtsfrei -
DESCRIPTION:
URL:https://www.silverberg-gymnasium.de/event/karneval-1-beweglicher-ferientag-unterrichtsfrei-4/
END:VEVENT
BEGIN:VEVENT
DTSTART;VALUE=DATE:20260216
DTEND;VALUE=DATE:20260217
DTSTAMP:20260421T174728
CREATED:20260208T154606Z
LAST-MODIFIED:20260208T154606Z
UID:1624199-1771200000-1771286399@www.silverberg-gymnasium.de
SUMMARY:Rosenmontag: 2. beweglicher Ferientag - unterrichtsfrei -
DESCRIPTION:
URL:https://www.silverberg-gymnasium.de/event/rosenmontag-2-beweglicher-ferientag-unterrichtsfrei-4/
END:VEVENT
BEGIN:VEVENT
DTSTART;VALUE=DATE:20260217
DTEND;VALUE=DATE:20260218
DTSTAMP:20260421T174728
CREATED:20260208T154607Z
LAST-MODIFIED:20260208T154607Z
UID:1624201-1771286400-1771372799@www.silverberg-gymnasium.de
SUMMARY:Veilchendienstag: 3. beweglicher Ferientag - unterrichtsfrei -
DESCRIPTION:
URL:https://www.silverberg-gymnasium.de/event/veilchendienstag-3-beweglicher-ferientag-unterrichtsfrei-4/
END:VEVENT
BEGIN:VEVENT
DTSTART;VALUE=DATE:20260218
DTEND;VALUE=DATE:20260219
DTSTAMP:20260421T174728
CREATED:20260208T154607Z
LAST-MODIFIED:20260208T154607Z
UID:1624200-1771372800-1771459199@www.silverberg-gymnasium.de
SUMMARY:2. Pädagogischer Tag (Studientag)   - unterrichtsfrei -
DESCRIPTION:
URL:https://www.silverberg-gymnasium.de/event/2-paedagogischer-tag-studientag-unterrichtsfrei-2/
END:VEVENT
BEGIN:VEVENT
DTSTART;TZID=Europe/Berlin:20260219T180000
DTEND;TZID=Europe/Berlin:20260219T190000
DTSTAMP:20260421T174728
CREATED:20260208T154607Z
LAST-MODIFIED:20260208T154607Z
UID:1624202-1771524000-1771527600@www.silverberg-gymnasium.de
SUMMARY:Digitaler Eltern-Infoabend zu VERA 8
DESCRIPTION:
URL:https://www.silverberg-gymnasium.de/event/digitaler-eltern-infoabend-zu-vera-8/
END:VEVENT
BEGIN:VEVENT
DTSTART;VALUE=DATE:20260223
DTEND;VALUE=DATE:20260228
DTSTAMP:20260421T174728
CREATED:20260208T154607Z
LAST-MODIFIED:20260208T154607Z
UID:1624203-1771804800-1772236799@www.silverberg-gymnasium.de
SUMMARY:Grasparcours ( Veranstaltung zur Suchtprävention)
DESCRIPTION:
URL:https://www.silverberg-gymnasium.de/event/grasparcours-veranstaltung-zur-suchtpraevention/
LOCATION:Aula\, Eichendorffstraße 1\, Bedburg\, 50181\, Deutschland
END:VEVENT
BEGIN:VEVENT
DTSTART;VALUE=DATE:20260223
DTEND;VALUE=DATE:20260321
DTSTAMP:20260421T174728
CREATED:20260208T154608Z
LAST-MODIFIED:20260318T233139Z
UID:1624216-1771804800-1774051199@www.silverberg-gymnasium.de
SUMMARY:Anmeldungen der neuen Fünftklässler SJ 2026-27  v. 23.02.-20.03.26 und Anmeldungen für die gymnasialen Oberstufe; Mo.- Do. von 08.00 - 12.00 Uhr und 13.00 - 15.30 Uhr\, Fr. von 8.00 -12.00 Uhr\, Freitagnachmittags Sekretariat geschlossen - Achtung !-  Online Anmeldung möglich   oder   nach telefonischer Terminabsprache !
DESCRIPTION:
URL:https://www.silverberg-gymnasium.de/event/anmeldungen-der-neuen-fuenftklaessler-sj-2026-27-v-23-02-20-03-26-und-anmeldungen-fuer-die-gymnasialen-oberstufe-mo-do-von-08-00-12-00-uhr-und-13-00-15-30-uhr-fr-von-8-00-12-00-uhr-frei/
END:VEVENT
BEGIN:VEVENT
DTSTART;VALUE=DATE:20260225
DTEND;VALUE=DATE:20260228
DTSTAMP:20260421T174728
CREATED:20260208T154607Z
LAST-MODIFIED:20260208T154607Z
UID:1624204-1771977600-1772236799@www.silverberg-gymnasium.de
SUMMARY:Orchester-Fahrt
DESCRIPTION:
URL:https://www.silverberg-gymnasium.de/event/orchester-fahrt/
END:VEVENT
BEGIN:VEVENT
DTSTART;TZID=Europe/Berlin:20260226T190000
DTEND;TZID=Europe/Berlin:20260226T200000
DTSTAMP:20260421T174728
CREATED:20260209T101953Z
LAST-MODIFIED:20260209T101953Z
UID:1624334-1772132400-1772136000@www.silverberg-gymnasium.de
SUMMARY:Einführende Information über den Bildungsgang in der gymnasialen Oberstufe (Eltern)
DESCRIPTION:1
URL:https://www.silverberg-gymnasium.de/event/einfuehrende-information-ueber-den-bildungsgang-in-der-gymnasialen-oberstufe-eltern-4/
END:VEVENT
END:VCALENDAR